BEGIN:VCALENDAR
VERSION:2.0
PRODID:-//De Teyding - ECPv6.15.13//NONSGML v1.0//EN
CALSCALE:GREGORIAN
METHOD:PUBLISH
X-ORIGINAL-URL:https://www.deteyding.nl
X-WR-CALDESC:Evenementen voor De Teyding
REFRESH-INTERVAL;VALUE=DURATION:PT1H
X-Robots-Tag:noindex
X-PUBLISHED-TTL:PT1H
BEGIN:VTIMEZONE
TZID:Europe/Amsterdam
BEGIN:DAYLIGHT
TZOFFSETFROM:+0100
TZOFFSETTO:+0200
TZNAME:CEST
DTSTART:20250330T010000
END:DAYLIGHT
BEGIN:STANDARD
TZOFFSETFROM:+0200
TZOFFSETTO:+0100
TZNAME:CET
DTSTART:20251026T010000
END:STANDARD
BEGIN:DAYLIGHT
TZOFFSETFROM:+0100
TZOFFSETTO:+0200
TZNAME:CEST
DTSTART:20260329T010000
END:DAYLIGHT
BEGIN:STANDARD
TZOFFSETFROM:+0200
TZOFFSETTO:+0100
TZNAME:CET
DTSTART:20261025T010000
END:STANDARD
BEGIN:DAYLIGHT
TZOFFSETFROM:+0100
TZOFFSETTO:+0200
TZNAME:CEST
DTSTART:20270328T010000
END:DAYLIGHT
BEGIN:STANDARD
TZOFFSETFROM:+0200
TZOFFSETTO:+0100
TZNAME:CET
DTSTART:20271031T010000
END:STANDARD
END:VTIMEZONE
BEGIN:VEVENT
DTSTART;VALUE=DATE:20260402
DTEND;VALUE=DATE:20260404
DTSTAMP:20260422T131154
CREATED:20260319T163636Z
LAST-MODIFIED:20260319T163636Z
UID:53802-1775095200-1775181599@www.deteyding.nl
SUMMARY:400 jaar Jan Steen: expositie "Thuis bij Jan Steen" (tot en met 23 augustus)
DESCRIPTION:WARMOND/LEIDEN\nIn de Lakenhal in Leiden is van 2 april tot en met 23 augustus een tentoonstelling te zien over het leven en de werken van Jan Steen. Dit omdat Jan Steen 400 jaar geleden geboren werd. Deze expositie “Thuis bij Jan Steen” is gerelateerd aan de exposities die in Warmond lopen rondom het feit dat deze kunstschilder 400 jaar geleden geboren werd en ook enige tijd in Warmond woonde en werkte. \nDe onderwerpen van de diverse exposities zijn op elkaar afgestemd zodat je echt andere tentoonstellingen ziet. De Warmondse exposities zijn bij Warmelda in de Roekenhof (Schildervrienden en familie van Jan Steen) en in Galerie het Oude Raadhuis\, waar Warmondse kunstenaars zich in Jan Steen hebben verplaatst en hem eren met hun werken. \nDaarnaast kun je in Warmond virtueel terecht in het atelier van Jan Steen. \nVoor meer informatie over alle evenementen in het kader van dit Jan Steenjaar kun je terecht op https://destrekenvanjansteen.nl/
URL:https://www.deteyding.nl/agenda/400-jaar-jan-steen-expositie-thuis-bij-jan-steen-tot-en-met-23-augustus/
END:VEVENT
BEGIN:VEVENT
DTSTART;VALUE=DATE:20260402
DTEND;VALUE=DATE:20260404
DTSTAMP:20260422T131154
CREATED:20260324T110417Z
LAST-MODIFIED:20260324T110417Z
UID:53856-1775095200-1775181599@www.deteyding.nl
SUMMARY:Start drumlessen Crescendo
DESCRIPTION:START DRUMLESSEN CRESCENDO SASSENHEIM\nOp donderdag 2 april aanstaande starten de drumlessen weer bij de Christelijke\nHarmonievereniging Crescendo in Sassenheim. De jeugdige docent Gonçalo Martins staat\nklaar om de nieuwe leerlingen les te geven op drumstel\, pauken of melodisch slagwerk zoals\nde xylofoon. Natuurlijk is het ook heel leuk om deze lessen samen met een vriendje of\nvriendinnetje te volgen én je kunt al heel snel met het opleidingsorkest meespelen binnen\nde slagwerksectie!\nMinimum leeftijd is zeven jaar want je moet wel bij de pedalen van het drumstel kunnen.\nEen proeflespakket voor vier lessen van 20 minuten kost €50\,-.\nLocatie: de tuinzaal van de Bernardus. Aanvangstijd: 17.00.\nVoor meer informatie en aanmelden: www.crescendosassenheim.nl/opleiding
URL:https://www.deteyding.nl/agenda/start-drumlessen-crescendo/
END:VEVENT
BEGIN:VEVENT
DTSTART;TZID=Europe/Amsterdam:20260402T100000
DTEND;TZID=Europe/Amsterdam:20260402T100000
DTSTAMP:20260422T131154
CREATED:20260330T153840Z
LAST-MODIFIED:20260330T154225Z
UID:53949-1775124000-1775124000@www.deteyding.nl
SUMMARY:Inloopochtend en expositie over Sassenheimse brandweer (tot 1/9)
DESCRIPTION:Tijdens de inloop van Stichting Oud Sassenheim op donderdag 2 april staat de Sassenheimse brandweer centraal. Allereerst wordt een presentatie verzorgd over bijna 175 jaar brandweer in Sassenheim. Daarna zal de postcommandant van de Sassenheimse brandweer de opening verrichten van de nieuwe tentoonstelling ‘De geschiedenis van de Sassenheimse brandweer’. Met behulp van oud-brandweermensen is een prachtige collectie van oud-brandweer materiaal bijeengebracht. Natuurlijk ontbreken de tenues\, laarzen en helmen niet waarmee het korps vroeger was uitgerust. Ook zijn er fraaie\, gekleurde ‘brandweerstokken’ te zien. Deze werden vroeger gebruikt om toeschouwers op afstand te houden\, om aan te geven wie de leiding had of hoe hard de pompen moesten draaien. Daarnaast zijn er grote foto’s opgehangen van spectaculaire branden in Sassenheim. \nDe inloop begint om 10.00 uur. De opening van de tentoonstelling is om 11.30 uur. De tentoonstelling kan van 14.00 tot 16.00 uur nog worden bezocht en blijft op gezette tijden te bezichtigen tot 1 september. \nLocatie De Coy\, Kagerdreef 72.
URL:https://www.deteyding.nl/agenda/expositie-over-sassenheimse-brandweer-tot-1-9/
LOCATION:De Coy\, Kagerdreef 72\, 2172 HM
END:VEVENT
BEGIN:VEVENT
DTSTART;TZID=Europe/Amsterdam:20260402T150000
DTEND;TZID=Europe/Amsterdam:20260402T170000
DTSTAMP:20260422T131154
CREATED:20260324T110716Z
LAST-MODIFIED:20260324T110839Z
UID:53860-1775142000-1775149200@www.deteyding.nl
SUMMARY:Nieuw tetoonstelling galerie De Pomp
DESCRIPTION:Nieuwe tentoonstelling in Galerie de Pomp\nVan 2 april tot en met 6 mei 2026 is bij Galerie de Pomp in Warmond weer een nieuwe\ntentoonstelling te zien.\nDe exposanten zijn:\n– Katie Haft-Su: keramiek. Katie is in Taiwan opgegroeid maar woont sinds vele jaren in Nederland. In\nhaar thuisland maakte zij van jongs af kennis met de ‘mooie theestellen’ cultuur bij de mensen thuis\,\nen met de oud-Chinese keramiek in musea. Na studies en werk in Taiwan\, Japan en Amerika volgde\nzij keramieklessen in Taiwan bij Lin Chao-ching en Du Changwei\, en in Leiden bij Odette Frijters en\nYoko Silk. Katie werkt in klei. De (veelal handgevormde) werken worden elektrisch gestookt\, soms\ndaarna ook beschilderd. Thematisch zien wij een evolutie van karakteristieke theestellen en vazen\nnaar beelden van de natuur in en om Oegstgeest. Soms worden motieven en materialen uit de\nnatuur mede verwerkt: bladeren\, bladaderen\, stengels. Het thema van deze nieuwe expositie\, ‘Hout\nblijft leven\, en ik leef mee!’ komt tot uiting in als hout eruitziende ‘boomstronken’ en ‘takken’\, soms\nmet bijbehorende vogels\, dieren\, en wandelaarsvoetjes.\n– Mieke Bijkerk-Hanse: glaswerk. Mieke exposeert met diverse glasobjecten in de vitrines in de\nvoorkamer van de galerie. Enkele objecten kunnen staan en andere kunnen hangen\, bijvoorbeeld\nvoor een raam zodat het licht mooi door het glas schijnt. Mieke heeft lesgegeven in de creatieve\nvakken op het vwo en lessen gevolgd op de lerarenopleiding in Delft en op de Vrije Academie in Den\nHaag. Ze versmelt het glas tot figuratieve of abstracte vormen. De prijzen hangen af van het soort\nglas wat er gebruikt wordt.\n– Marjolein Sterkenburg: schilderijen. Schilderen is echt de passie van Marjolein\, bijna iedere dag is\nze er mee bezig! Haar inspiratie haalt ze uit de natuur. Overal waar ze is\, zoekt ze naar mooie\ninspiratiebronnen en impressies om vast te leggen op het doek. Ze schildert met acryl en olieverf en\nhet liefst En Plein Air\, regelmatig ook met collega-schilders. Veel van haar werk is daarom geschilderd\nin de omgeving waar ze woont of op vakantie is. Van oorsprong is Marjolein docente Beeldende\nVorming (Tekenen en Handvaardigheid) en heeft ze 25 jaar lesgeven op middelbare scholen in de\nBeeldende vakken. Daarnaast heeft ze twee jaar Kunstacademie in Utrecht gedaan (Grafische\nVormgeving). Ook heeft ze lang deelgenomen aan een Grafiekwerkplaats in Almere en wekelijks\ngeschilderd bij een Ateliergroep in Utrecht. Sinds 2022 is ze aangesloten bij een EnPleinair groep in\nde Bollenstreek die twee keer per maand op wisselende locaties in de streek en plein air schildert.\nDaarnaast is ze actief bij Kunstenaarsvereniging Bollenstreek in Beeld (BIB)\, het KuCo Kunstenaars\nCollectief en de Leidsche Mondialen. Ook beschildert Marjolein sinds 2023 tulpenbollen van groot tot\nklein voor Gildemeesters Bollenstreek. www.marjoleinsterkenburg.nl\nIn de kelder weer diverse cadeautjes.\nAdres\nGalerie de Pomp\, Dorpsstraat 38\, 2361 BE Warmond\nOpeningstijden\nWoensdag t/m Vrijdag: 15:00 – 17:00\nZaterdag: 11:00 – 17:00\nZondag: 13:00 – 17:00
URL:https://www.deteyding.nl/agenda/nieuw-tetoonstelling-galerie-de-pomp/
END:VEVENT
BEGIN:VEVENT
DTSTART;TZID=Europe/Amsterdam:20260402T201500
DTEND;TZID=Europe/Amsterdam:20260402T201500
DTSTAMP:20260422T131154
CREATED:20260321T133231Z
LAST-MODIFIED:20260321T133231Z
UID:53833-1775160900-1775160900@www.deteyding.nl
SUMMARY:Film L’Attachement: Liefdevol familieportret
DESCRIPTION:L’Attachement: Liefdevol familieportret in ‘t Onderdak\nOp donderdagavond 2 april vertoont Theater ’t Onderdak de Franse film\nL’Attachement\, een ontroerend en intiem drama over menselijke\nverbondenheid\, liefde en verlies.\nL’Attachement vertelt het verhaal van Sandra\, eigenaresse van een feministische\nboekenwinkel en tevreden single in haar gezellige appartement. Haar rustige leven\nverandert wanneer haar overbuurman Alex plotseling wordt getroffen door een\ntragedie. Sandra voelt zich aangespoord om haar zelfgekozen eenzaamheid te\ndoorbreken\, mede door de ontwapenende gesprekken met Alex’ zesjarige zoontje\nElliot.\nWat begint als een klassiek Frans drama\, groeit uit tot een verrassend en warm\nverhaal over onverwachte ontmoetingen en de kracht van menselijke relaties.\nIndrukwekkend spel\nDe film is gebaseerd op de roman L’intimité van Alice Ferney en ging in september\n2024 in première op het filmfestival van Venetië. Met name de jonge acteur César\nBotti – tijdens de opnames nog maar zes jaar oud – werd geprezen om zijn\nindrukwekkende spel. Regisseur Carine Tardieu schetst met L’Attachement een\nliefdevol portret van families in al hun vormen en variaties.\nDe trailer is te zien via: https://youtu.be/mrAdDKWt9xs\nLovende kritieken\nDe Nederlandse filmcritici waren unaniem lovend over deze film. NRC en de\nVolkskrant waardeerden L’Attachement met vier sterren. NRC: “Ragfijne nuances van\nrouw en liefde.” De Volkskrant: “In het empathische rouwdrama L’Attachement komen\nde kleinste details het hardst binnen.”\nTheater ’t Onderdak\, J.P. Gouverneurlaan 40A\, Sassenheim\nDonderdag 2 april 2026 – 20.15 uur\nTickets € 6\,75 via hetonderdak.nl of op donderdagavond aan de theaterkassa.
URL:https://www.deteyding.nl/agenda/film-lattachement-liefdevol-familieportret/
LOCATION:Theater ’t Onderdak\, J.P. Gouverneurlaan 40a\, Sassenheim\, 2171 ER\, Nederland
END:VEVENT
END:VCALENDAR