BEGIN:VCALENDAR
VERSION:2.0
PRODID:-//De Teyding - ECPv6.15.13//NONSGML v1.0//EN
CALSCALE:GREGORIAN
METHOD:PUBLISH
X-WR-CALNAME:De Teyding
X-ORIGINAL-URL:https://www.deteyding.nl
X-WR-CALDESC:Evenementen voor De Teyding
REFRESH-INTERVAL;VALUE=DURATION:PT1H
X-Robots-Tag:noindex
X-PUBLISHED-TTL:PT1H
BEGIN:VTIMEZONE
TZID:Europe/Amsterdam
BEGIN:DAYLIGHT
TZOFFSETFROM:+0100
TZOFFSETTO:+0200
TZNAME:CEST
DTSTART:20250330T010000
END:DAYLIGHT
BEGIN:STANDARD
TZOFFSETFROM:+0200
TZOFFSETTO:+0100
TZNAME:CET
DTSTART:20251026T010000
END:STANDARD
BEGIN:DAYLIGHT
TZOFFSETFROM:+0100
TZOFFSETTO:+0200
TZNAME:CEST
DTSTART:20260329T010000
END:DAYLIGHT
BEGIN:STANDARD
TZOFFSETFROM:+0200
TZOFFSETTO:+0100
TZNAME:CET
DTSTART:20261025T010000
END:STANDARD
BEGIN:DAYLIGHT
TZOFFSETFROM:+0100
TZOFFSETTO:+0200
TZNAME:CEST
DTSTART:20270328T010000
END:DAYLIGHT
BEGIN:STANDARD
TZOFFSETFROM:+0200
TZOFFSETTO:+0100
TZNAME:CET
DTSTART:20271031T010000
END:STANDARD
END:VTIMEZONE
BEGIN:VEVENT
DTSTART;TZID=Europe/Amsterdam:20260416T103000
DTEND;TZID=Europe/Amsterdam:20260416T111500
DTSTAMP:20260422T102231
CREATED:20260330T154439Z
LAST-MODIFIED:20260330T154439Z
UID:53953-1776335400-1776338100@www.deteyding.nl
SUMMARY:Lezing Alex Moerkerken: Mens – een filosofische blik op ons bestaan (aanmelden)
DESCRIPTION:Lezing Alex Moerkerken: Mens – een filosofische blik op ons bestaan \nOp donderdag 16 april geeft Alex Moerkerken in de Bibliotheek Voorhout een lezing over zijn boek Mens. In dit toegankelijke\, filosofische verhaal onderzoekt Moerkerken – vanuit de natuurwetenschap – hoe juist de grenzen van ons weten betekenis geven aan wie wij zijn. \nTijdens de lezing gaat hij in op vragen als: Wat is onze oorsprong? Wat is onze plek in het heelal? Waarom is de mens zo complex? Hoewel de moderne wetenschap indrukwekkende inzichten biedt\, blijft er een fundamentele grens bestaan. Precies daarachter liggen drie kwesties die ons blijven uitdagen: bewustzijn\, het kwantumdomein en de werkelijkheid om ons heen. Bezoekers krijgen een inspirerend verhaal vol eyeopeners\, met ruimte voor vragen en gesprek. \nDe lezing vindt plaats van 10.30 tot 11.15 uur. Deelname kost € 2\,50 voor leden en € 5\,00 voor niet‑leden. Aanmelden via de website van de Bibliotheek Bollenstreek www.bibliotheekbollenstreek.nl.
URL:https://www.deteyding.nl/agenda/lezing-alex-moerkerken-mens-een-filosofische-blik-op-ons-bestaan-aanmelden/
LOCATION:Bibliotheek Voorhout\, Herenstraat 48\, Voorhout\, Nederland
END:VEVENT
BEGIN:VEVENT
DTSTART;TZID=Europe/Amsterdam:20260416T190000
DTEND;TZID=Europe/Amsterdam:20260416T210000
DTSTAMP:20260422T102231
CREATED:20260319T153810Z
LAST-MODIFIED:20260319T153810Z
UID:53796-1776366000-1776373200@www.deteyding.nl
SUMMARY:Workshop: Jongerencommunicatie\, wat je echt moet weten voor effect (aanmelden)
DESCRIPTION:Welzijn Teylingen organiseert in april weer een boeiende workshop voor verenigingen\, stichtingen\, maatschappelijke organisaties\, actieve inwoners. \nJongerencommunicatie\, wat je echt moet weten voor effect \nWil je meer jongeren bereiken als vrijwilliger of als lid\, kom dan naar de workshop Jongerencommunicatie. \nJe wordt meegenomen in de leef- en belevingswereld van jongeren. En vooral in hoe zij omgaan met communicatie en informatie. \nDe workshop wordt mogelijk gemaakt door de Rabobank (Raboclubsupport) en Welzijn Teylingen. \nHoe betrek je meer jongeren als vrijwilliger of als deelnemer bij jouw organisatie? Hoe zorg je dat ze lid of bezoeker blijven of worden? Wat willen jongeren precies? Wat beweegt jongeren? Wat verwachten zij van jouw club? \nDeze en meer vragen spelen bij veel clubs en vrijwilligersorganisaties. Niet alleen in de sport\, ook bij culturele en maatschappelijke organisaties bijvoorbeeld. En ook bij sommige bewonersinitiatieven. \nIn de workshop komen sprekende voorbeelden en leuke anekdotes voorbij. Je wordt op een enthousiaste manier een stuk wijzer over de jeugdvrijwilligers en -leden (van de toekomst). En tegelijkertijd krijg je ook nuttige inzichten over andere generaties. \nCoen Jongerencommunicatie voert de workshop uit. Zij laten zien wat jongeren belangrijk vinden. \nHoewel… Kun je wel van één groep jongeren spreken? En is communiceren voor verschillende generaties niet heel ingewikkeld en lastig? Dat is toch makkelijker dan je denkt! \nWorkshop: \nNa de workshop weet je hoe je het best met de nieuwste generaties kunt communiceren\, welke informatiebehoeftes ze hebben\, en wat zij belangrijk vinden bij een club. \nNatuurlijk is er in de workshop ook ruimte om je eigen vragen te stellen. \nMaak je op voor een pittige avond waarin je ook een spiegel krijgt op je eigen communicatie.\nHet kan zeker toegevoegde waarde hebben als je met 2 mensen van één organisatie komt. \nWaar en wanneer? \nDe workshop wordt gegeven in ’t Trefpunt in Warmond. \nDatum: 16 april\, 19 – 21 uur. \nInloop vanaf 18.45 uur. \nVooraf aanmelden via de VrijwilligersAcademie van Welzijn Teylingen. www.vrijwilligteylingen.nl \n 
URL:https://www.deteyding.nl/agenda/workshop-jongerencommunicatie-wat-je-echt-moet-weten-voor-effect-aanmelden/
LOCATION:Trefpunt
END:VEVENT
BEGIN:VEVENT
DTSTART;TZID=Europe/Amsterdam:20260416T190000
DTEND;TZID=Europe/Amsterdam:20260416T210000
DTSTAMP:20260422T102231
CREATED:20260324T111306Z
LAST-MODIFIED:20260324T111306Z
UID:53862-1776366000-1776373200@www.deteyding.nl
SUMMARY:Workshop Jongerencommunicatie (aanmelden)
DESCRIPTION:Jongerencommunicatie\, wat je echt moet weten voor effect\nJongerencommunicatie. Je wordt meegenomen in de leef- en belevingswereld van jongeren.\nEn vooral in hoe zij omgaan met communicatie en informatie. De workshop wordt mogelijk\ngemaakt door de Rabobank (Raboclubsupport) en Welzijn Teylingen.\nHoe betrek je meer jongeren als vrijwilliger of als deelnemer bij jouw organisatie? Hoe zorg\nje dat ze lid of bezoeker blijven of worden? Wat willen jongeren precies? Wat beweegt\njongeren? Wat verwachten zij van jouw club? Deze en meer vragen spelen bij veel clubs en\nvrijwilligersorganisaties. Niet alleen in de sport\, ook bij culturele en maatschappelijke\norganisaties bijvoorbeeld. En ook bij sommige bewonersinitiatieven.\nIn de workshop komen sprekende voorbeelden en leuke anekdotes voorbij. Je wordt op een\nenthousiaste manier een stuk wijzer over de jeugdvrijwilligers en -leden (van de toekomst).\nEn tegelijkertijd krijg je ook nuttige inzichten over andere generaties.\nCoen Jongerencommunicatie voert de workshop uit. Zij laten zien wat jongeren belangrijk\nvinden. Hoewel… Kun je wel van één groep jongeren spreken? En is communiceren voor\nverschillende generaties niet heel ingewikkeld en lastig? Dat is toch makkelijker dan je denkt!\nWorkshop:\nNa de workshop weet je hoe je het best met de nieuwste generaties kunt communiceren\,\nwelke informatiebehoeftes ze hebben\, en wat zij belangrijk vinden bij een club. Natuurlijk is\ner in de workshop ook ruimte om je eigen vragen te stellen. Maak je op voor een pittige\navond waarin je ook een spiegel krijgt op je eigen communicatie.\nHet kan zeker toegevoegde waarde hebben als je met 2 mensen van één organisatie komt.\nWaar en wanneer?\nDe workshop wordt gegeven in ’t Trefpunt in Warmond.\nDatum: 16 april\, 19 – 21 uur.\nInloop vanaf 18.45 uur.\nAanmelden via de VrijwilligersAcademie van Welzijn Teylingen\n(www.vrijwilligteylingen.nl)
URL:https://www.deteyding.nl/agenda/workshop-jongerencommunicatie-aanmelden/
LOCATION:Trefpunt
END:VEVENT
BEGIN:VEVENT
DTSTART;TZID=Europe/Amsterdam:20260416T200000
DTEND;TZID=Europe/Amsterdam:20260416T210000
DTSTAMP:20260422T102231
CREATED:20260313T131214Z
LAST-MODIFIED:20260313T131214Z
UID:53563-1776369600-1776373200@www.deteyding.nl
SUMMARY:Kom maar op met die peuterpuberteit (aanmelden)
DESCRIPTION:Kom maar op met die peuterpuberteit\n__________________________________________________________________________________\nBinnenkort organiseert het Centrum voor Jeugd en Gezin (CJG) het gratis webinar “Kom maar\nop met die peuterpuberteit”.\nOpvoedkundige Tischa Neve geeft ouders van kinderen van 2 tot 4 jaar praktische tips over omgaan\nmet driftbuien\, dwars gedrag en de sterke eigen wil die veel peuters ontwikkelen.\nhouden.\nTijdens het webinar krijgen ouders inzicht in de ontwikkeling van peuters\, leren zij waarom dit gedrag\nzo normaal is en ontdekken zij hoe zij meer rust en samenwerking in huis kunnen creëren.\nHet webinar vindt plaats op donderdag 16 april 2026 van 20.00 tot 21.00 uur en is gratis voor\ninwoners van de deelnemende gemeenten. Terugkijken kan tot en met 16 mei 2026.\nVoor meer informatie en aanmelding ga naar www.cjgcursus.nl of kijk deze link
URL:https://www.deteyding.nl/agenda/kom-maar-op-met-die-peuterpuberteit-aanmelden/
END:VEVENT
BEGIN:VEVENT
DTSTART;TZID=Europe/Amsterdam:20260416T201500
DTEND;TZID=Europe/Amsterdam:20260416T201500
DTSTAMP:20260422T102231
CREATED:20260405T090110Z
LAST-MODIFIED:20260405T090110Z
UID:54168-1776370500-1776370500@www.deteyding.nl
SUMMARY:Laatste Downton Abbey-film in Theater ’t Onderdak
DESCRIPTION:Laatste Downton Abbey-film in Theater ’t Onderdak\nOp donderdagavond 16 april 2026 vertoont Theater ’t Onderdak de\nlangverwachte slotfilm Downton Abbey: The Grand Finale. De voorstelling\nbegint om 20.15 uur.\nMet deze film komt een einde aan één van de meest geliefde kostuumdrama’s ooit.\nNa zes seizoenen\, 52 afleveringen en twee eerdere speelfilms nemen we definitief\nafscheid van de familie Crawley en hun personeel.\nSchandalen en geldproblemen\nIn The Grand Finale laten de Crawleys de roerige jaren ’20 achter zich en betreden\nze een nieuw tijdperk: de jaren ’30. Maar rust en stabiliteit zijn allesbehalve\nvanzelfsprekend. Terwijl de familie probeert Downton Abbey de toekomst in te\nloodsen\, dreigen publieke schandalen en financiële onzekerheid roet in het eten te\ngooien. De personages worden gedwongen om veranderingen te omarmen en een\nnieuw hoofdstuk in hun leven te beginnen.\nWaardig afscheid\nDe film biedt een emotioneel en waardig afscheid\, waarin thema’s als traditie\,\nverandering en familie centraal staan. Opvallend is dat de cast het dit keer zonder\npublieksfavoriet Maggie Smith moet stellen\, die de rol van de pinnige gravin Violet\nCrawley speelde. Zij overleed in september 2024.\nPraktische informatie\n Datum: donderdag 16 april 2026\n Tijd: 20.15 uur\n Locatie: Theater ’t Onderdak\, J.P. Gouverneurlaan 40A\, Sassenheim\n Toegangsprijs: € 6\,75\n Kaarten: via de website van het theater of op donderdagavond aan de\ntheaterkassa\n Trailer: https://youtu.be/iKnkMW4KS_c
URL:https://www.deteyding.nl/agenda/laatste-downton-abbey-film-in-theater-t-onderdak/
LOCATION:Theater ’t Onderdak\, J.P. Gouverneurlaan 40a\, Sassenheim\, 2171 ER\, Nederland
END:VEVENT
END:VCALENDAR