BEGIN:VCALENDAR
VERSION:2.0
PRODID:-//De Teyding - ECPv6.15.13//NONSGML v1.0//EN
CALSCALE:GREGORIAN
METHOD:PUBLISH
X-WR-CALNAME:De Teyding
X-ORIGINAL-URL:https://www.deteyding.nl
X-WR-CALDESC:Evenementen voor De Teyding
REFRESH-INTERVAL;VALUE=DURATION:PT1H
X-Robots-Tag:noindex
X-PUBLISHED-TTL:PT1H
BEGIN:VTIMEZONE
TZID:Europe/Amsterdam
BEGIN:DAYLIGHT
TZOFFSETFROM:+0100
TZOFFSETTO:+0200
TZNAME:CEST
DTSTART:20250330T010000
END:DAYLIGHT
BEGIN:STANDARD
TZOFFSETFROM:+0200
TZOFFSETTO:+0100
TZNAME:CET
DTSTART:20251026T010000
END:STANDARD
BEGIN:DAYLIGHT
TZOFFSETFROM:+0100
TZOFFSETTO:+0200
TZNAME:CEST
DTSTART:20260329T010000
END:DAYLIGHT
BEGIN:STANDARD
TZOFFSETFROM:+0200
TZOFFSETTO:+0100
TZNAME:CET
DTSTART:20261025T010000
END:STANDARD
BEGIN:DAYLIGHT
TZOFFSETFROM:+0100
TZOFFSETTO:+0200
TZNAME:CEST
DTSTART:20270328T010000
END:DAYLIGHT
BEGIN:STANDARD
TZOFFSETFROM:+0200
TZOFFSETTO:+0100
TZNAME:CET
DTSTART:20271031T010000
END:STANDARD
END:VTIMEZONE
BEGIN:VEVENT
DTSTART;TZID=Europe/Amsterdam:20260422T150000
DTEND;TZID=Europe/Amsterdam:20260422T163000
DTSTAMP:20260422T114719
CREATED:20260410T103725Z
LAST-MODIFIED:20260410T103725Z
UID:54258-1776870000-1776875400@www.deteyding.nl
SUMMARY:Bouwen met Lego bij de Bibliotheek (aanmelden)
DESCRIPTION:Bouwen met Lego bij de Bibliotheek \nWoensdag 22 april van 15.00-16.30 uur kan er gebouwd worden met Lego in de Bibliotheek van Voorhout. Lekker ontspannen samen bouwen met andere LEGO-liefhebbers. Creativiteit en fantasie staan centraal. \nSamen met Bibi\, bekend van Lego Masters\, gaan de kinderen creatief bouwen. Er wordt geen stappenboekje gebruikt\, maar een leuk verhaal. De deelnemende kinderen laten door middel van hun bouwwerk zien hoe dit verhaal eindigt. \nBibi geeft tijdens het bouwen leuke tips en trucjes om een lego-steentje anders te gebruiken. \nMet lego raak je nooit uitgebouwd. Lego atelier is geschikt voor kinderen vanaf 7 jaar. Deelname kost € 2\,00 voor leden en € 3\,00 voor niet-leden. Aanmelden kan via de website van de Bibliotheek Bollenstreek www.bibliotheekbollenstreek.nl. \n 
URL:https://www.deteyding.nl/agenda/bouwen-met-lego-bij-de-bibliotheek-aanmelden/
LOCATION:Bibliotheek Voorhout\, Herenstraat 48\, Voorhout\, Nederland
END:VEVENT
BEGIN:VEVENT
DTSTART;TZID=Europe/Amsterdam:20260422T153000
DTEND;TZID=Europe/Amsterdam:20260422T170000
DTSTAMP:20260422T114719
CREATED:20260410T103906Z
LAST-MODIFIED:20260410T103906Z
UID:54260-1776871800-1776877200@www.deteyding.nl
SUMMARY:Denk mee tijdens de Brainstorm voor kinderen (aanmelden)
DESCRIPTION:Denk mee tijdens de Brainstorm voor kinderen \nDe Bibliotheek Bollenstreek nodigt kinderen uit om mee te denken tijdens de Bibliotheek Brainstorm: World of Books. Kinderen van 7 tot en met 10 jaar met leuke en creatieve ideeën zijn van harte welkom om hun stem te laten horen. \nIn de bibliotheek staat de World of Books-kast: een bijzondere boekenkast met kinderboeken in verschillende talen. Deze boeken zijn vrij te lenen\, ook zonder bibliotheekpas\, en iedereen mag zelf boeken toevoegen. Tijdens de Bibliotheek Brainstorm kunnen kinderen meedenken over activiteiten rondom deze kast\, want hun mening telt. \nDe middag start met een spelletje om elkaar te leren kennen. Daarna is er volop ruimte om ideeën te delen. Misschien wordt een idee wel werkelijkheid in de bibliotheek. \nDe brainstorm vindt plaats op woensdag 22 april van 15.30 tot 17.00 uur in de bibliotheek van Sassenheim. Deelname is gratis. Aanmelden kan via www.bibliotheekbollenstreek.nl. \n 
URL:https://www.deteyding.nl/agenda/denk-mee-tijdens-de-brainstorm-voor-kinderen-aanmelden/
LOCATION:Bibliotheek Sassenheim\, Kerklaan 42\, 2171 GC
END:VEVENT
BEGIN:VEVENT
DTSTART;TZID=Europe/Amsterdam:20260422T190000
DTEND;TZID=Europe/Amsterdam:20260422T194500
DTSTAMP:20260422T114719
CREATED:20251229T144824Z
LAST-MODIFIED:20251229T144824Z
UID:52117-1776884400-1776887100@www.deteyding.nl
SUMMARY:Presidium gemeenteraad vergadert
DESCRIPTION:Vergaderingen Teylingen – iBabs Publieksportaal
URL:https://www.deteyding.nl/agenda/presidium-gemeenteraad-vergadert-2/
END:VEVENT
BEGIN:VEVENT
DTSTART;TZID=Europe/Amsterdam:20260422T200000
DTEND;TZID=Europe/Amsterdam:20260422T230000
DTSTAMP:20260422T114719
CREATED:20251229T144926Z
LAST-MODIFIED:20251229T144926Z
UID:52119-1776888000-1776898800@www.deteyding.nl
SUMMARY:Raadscommissie Duurzaamheid\, Economie en Bestuur vergadert
DESCRIPTION:Vergaderingen Teylingen – iBabs Publieksportaal
URL:https://www.deteyding.nl/agenda/raadscommissie-duurzaamheid-economie-en-bestuur-vergadert/
END:VEVENT
END:VCALENDAR