BEGIN:VCALENDAR
VERSION:2.0
PRODID:-//De Teyding - ECPv6.15.13//NONSGML v1.0//EN
CALSCALE:GREGORIAN
METHOD:PUBLISH
X-WR-CALNAME:De Teyding
X-ORIGINAL-URL:https://www.deteyding.nl
X-WR-CALDESC:Evenementen voor De Teyding
REFRESH-INTERVAL;VALUE=DURATION:PT1H
X-Robots-Tag:noindex
X-PUBLISHED-TTL:PT1H
BEGIN:VTIMEZONE
TZID:Europe/Amsterdam
BEGIN:DAYLIGHT
TZOFFSETFROM:+0100
TZOFFSETTO:+0200
TZNAME:CEST
DTSTART:20250330T010000
END:DAYLIGHT
BEGIN:STANDARD
TZOFFSETFROM:+0200
TZOFFSETTO:+0100
TZNAME:CET
DTSTART:20251026T010000
END:STANDARD
BEGIN:DAYLIGHT
TZOFFSETFROM:+0100
TZOFFSETTO:+0200
TZNAME:CEST
DTSTART:20260329T010000
END:DAYLIGHT
BEGIN:STANDARD
TZOFFSETFROM:+0200
TZOFFSETTO:+0100
TZNAME:CET
DTSTART:20261025T010000
END:STANDARD
BEGIN:DAYLIGHT
TZOFFSETFROM:+0100
TZOFFSETTO:+0200
TZNAME:CEST
DTSTART:20270328T010000
END:DAYLIGHT
BEGIN:STANDARD
TZOFFSETFROM:+0200
TZOFFSETTO:+0100
TZNAME:CET
DTSTART:20271031T010000
END:STANDARD
END:VTIMEZONE
BEGIN:VEVENT
DTSTART;TZID=Europe/Amsterdam:20260508T203000
DTEND;TZID=Europe/Amsterdam:20260508T230000
DTSTAMP:20260422T202056
CREATED:20260420T123546Z
LAST-MODIFIED:20260420T123546Z
UID:54599-1778272200-1778281200@www.deteyding.nl
SUMMARY:Kerkenveiling (Paveivo) bij Cheers
DESCRIPTION:Vrij¬dagavond 8 mei a.s. vindt bij “Cheers” aan de Herenstraat in Voorhout weer de jaarlijkse kerkenveiling van de Bartholomeuskerk plaats. Deze veiling\, in de wandelgangen beter bekend als de Paveivo\, is een veiling van allerhande artikelen die ter beschikking zijn gesteld door bedrijven\, winkeliers en parochianen. De opbrengst van deze veiling is bestemd voor het financiële reilen en zeilen van de Bartholomeuskerk\, onderdeel van het cluster St Maarten.\nDe avond begint om 20.30 uur\, maar u kunt de hele avond in- en uitlopen\, want het duurt tot in de kleine uurtjes. Ook als u eerst iets anders te doen heeft\, bent u om 23.00 uur nog steeds van harte welkom. Dus schroom niet en kom dit jaar (weer) eens kijken. \nVooral voor nieuwe parochianen in ons groeiende dorp is dit dè gelegenheid om onze parochiegemeenschap eens van een andere kant te bekijken. Het aanbod is als vanouds weer gevarieerd: diverse dranken\, vleessoorten\, autobenodigdheden\, moederdag taarten\, plant¬jes\, bloemen\, luchtjes\, dinerbonnen voor verschillende restaurants enz. Bijna de gehele middenstand doet mee\, dus u kunt het zo gek niet bedenken of het is er. \nDe Bier en Spijs avond bij restaurant Boerhaave begint steeds meer bezoekers te trekken en staat op 5 november bij Boerhaave gepland\, een aanrader voor de bierliefhebber.\nDe kerstworkshop\, altijd een gezellige avond met een hapje en een drankje en natuurlijk een mooi kerststuk\, zal dit jaar plaats vinden op woensdag 9 december.\nHet klaverjassen met pastoor Straathof is op 7 januari 2027\, een geheel verzorgde avond met een hapje en een drankje\, zo aan het begin van het jaar altijd gezellig.\nKortom: allemaal leuke items om met een gezellige avond uit de kerk te sponsoren. \nVei¬lingbe¬zoekers die het op prijs stellen om van tevoren een catalogus te ontvangen\, kunnen bellen met Rik van Wieringen\, tel. 06-16883759. Ook kunt u op ver¬schillen¬de plaatsen in het dorp een catalogus meepakken\, o.a. bij Servi¬cecentrum Schoonoord\, Van Kesteren Groente en Fruit\, bakkerij Ammerlaan\, bakkerij Oosthout of achterin de kerk. Dit jaar komt er ook een online versie op de site van de parochie\, www.parochiesintmaarten.nl\nAls u echt geen tijd heeft om naar de veiling te gaan\, kunt u bij Hans Zonneveld\n(06 53407509) een op¬dracht tot koop plaatsen. Hij staat bekend als iemand die altijd een artikel voor de laagste prijs weet te bemachtigen (hij is er tenslotte toch de hele avond en grossiert in koopjes). U ziet: alles bij elkaar redenen genoeg om 8 mei snel in uw agenda te noteren. \nTot ziens!
URL:https://www.deteyding.nl/agenda/kerkenveiling-paveivo-bij-cheers/
LOCATION:Cheers\, Herenstraat 106\, Voorhout
END:VEVENT
BEGIN:VEVENT
DTSTART;TZID=Europe/Amsterdam:20260511T200000
DTEND;TZID=Europe/Amsterdam:20260511T230000
DTSTAMP:20260422T202056
CREATED:20251229T145301Z
LAST-MODIFIED:20251229T145301Z
UID:52123-1778529600-1778540400@www.deteyding.nl
SUMMARY:Beeldvormende sessies Gemeenteraad
DESCRIPTION:Vergaderingen Teylingen – iBabs Publieksportaal
URL:https://www.deteyding.nl/agenda/beeldvormende-sessies-gemeenteraad/
LOCATION:Bestuurscentrum Teylingen\, Raadhuisplein 1\, Voorhout
END:VEVENT
BEGIN:VEVENT
DTSTART;TZID=Europe/Amsterdam:20260518T200000
DTEND;TZID=Europe/Amsterdam:20260518T230000
DTSTAMP:20260422T202056
CREATED:20251229T145408Z
LAST-MODIFIED:20251229T145408Z
UID:52125-1779134400-1779145200@www.deteyding.nl
SUMMARY:Gemeenteraadsfracties vergaderen
DESCRIPTION:Vergaderingen Teylingen – iBabs Publieksportaal
URL:https://www.deteyding.nl/agenda/gemeenteraadsfracties-vergaderen-4/
LOCATION:Bestuurscentrum Teylingen\, Raadhuisplein 1\, Voorhout
END:VEVENT
BEGIN:VEVENT
DTSTART;TZID=Europe/Amsterdam:20260521T140000
DTEND;TZID=Europe/Amsterdam:20260521T173000
DTSTAMP:20260422T202056
CREATED:20260414T173216Z
LAST-MODIFIED:20260414T173216Z
UID:54357-1779372000-1779384600@www.deteyding.nl
SUMMARY:Teyldansant (aanmelden)
DESCRIPTION:Zin in een gezellige middag met gouwe ouwe muziek\, ontmoeting en misschien een dansje?\nKom naar Teyldansant: hét feest voor senioren uit Sassenheim\, Warmond en Voorhout! \nGeniet van herkenbare muziek uit de jaren 60 & 70\, met een DJ en live entertainment.\nDansen mag… maar meezingen of gewoon lekker genieten van de muziek kan natuurlijk ook.\nSamen maken we er een ontspannen en gezellige middag van. \nWanneer: donderdag 21 mei\nTijd: 14.00 – 17.30 uur\nWaar: Cheers! Voorhout \nKaartjes: Stuur een mail aan: info@teyldansant.nl \nEn ook leuk als je een kennis\, vriend\, buur of je mantelzorger meeneemt.
URL:https://www.deteyding.nl/agenda/teyldansant-aanmelden/
LOCATION:Cheers\, Herenstraat 106\, Voorhout
END:VEVENT
BEGIN:VEVENT
DTSTART;TZID=Europe/Amsterdam:20260521T200000
DTEND;TZID=Europe/Amsterdam:20260521T230000
DTSTAMP:20260422T202056
CREATED:20251229T145513Z
LAST-MODIFIED:20251229T145513Z
UID:52127-1779393600-1779404400@www.deteyding.nl
SUMMARY:Gemeenteraadsvergadering
DESCRIPTION:Vergaderingen Teylingen – iBabs Publieksportaal
URL:https://www.deteyding.nl/agenda/gemeenteraadsvergadering/
LOCATION:Bestuurscentrum Teylingen\, Raadhuisplein 1\, Voorhout
END:VEVENT
BEGIN:VEVENT
DTSTART;VALUE=DATE:20260531
DTEND;VALUE=DATE:20260602
DTSTAMP:20260422T202056
CREATED:20260303T083126Z
LAST-MODIFIED:20260303T083126Z
UID:53338-1780192800-1780279199@www.deteyding.nl
SUMMARY:De Sassemse CakePicknick
DESCRIPTION:Een nieuw voorjaarsevenement in Park Rusthoff: De Sassemse CakePicknick\nWaar creativiteit\, lekkere baksels en dorpsgenoten samen komen in het groene hart van Sassenheim! Hou jij van bakken en prik je ook graag een stukje taart weg? Dan is dit een evenement voor jou!\nZondag 31 mei toveren we het eiland van het park om in een grote picknick\, het doel is simpel: lekker taart eten.\nMaar hoe werkt dat dan? Heel eenvoudig: om deel te mogen nemen aan dit evenement heb je 2 dingen nodig: een kaartje en een taartje. Iedere deelnemer levert een taart aan\, zelf gebakken of zelf gedecoreerd\, deze worden allemaal op de tafels uitgestald en door een deskundige jury beoordeeld op presentatie en creativiteit. Na de jurybeoordeling is het de hoogste tijd om te doen waar we voor kwamen: lekker eten! Iedere deelnemer wordt ingedeeld in een groep\, waarbij iedere deelnemer in die groep 5 minuten de tijd heeft om zoveel mogelijk stukjes taart te snijden voor zichzelf. Als alle deelnemers de kans hebben gehad om hun bordje vol te laden en er is nog taart over is het voor iedereen vrij om nog wat extra’s te proeven.\nWat zijn de voorwaarden: deelnemers tot en met 12 jaar nemen een taart mee voor minimaal 4 personen\, deelnemers vanaf 13 jaar voor minimaal 6 personen\, maar groter mag altijd! Cupcakes mogen ook\, hiervoor geldt: tot en met 12 jaar minimaal 6 cupcakes\, vanaf 13 jaar minimaal 10 stuks. Zelf gebakken en versierd is natuurlijk het allerleukste en denk een beetje buiten de gebaande paden. Leef je uit\, appeltaart kan altijd nog!\nToegang tot dit evenement kost €7.50 per volwassene en €5\,- voor deelnemers tot 12 jaar. Meldt je aan via het aanmeldformulier op de website van Park Rusthoff\, graag zsm maar uiterlijk op 20 mei 2026. Je krijgt dan van ons een betaalverzoek en aanvullende informatie.\nWat is handig om zelf mee te nemen? Een picknick-kleed\, bord met mes en vork. Drankjes en ijsjes zijn verkrijgbaar bij ’t Sassenest.\nVanwege het open karakter van dit evenement is er een risico op kruisbesmetting. Eet je glutenvrij? Dan kunnen wij hier wel in accommoderen\, geef dit duidelijk aan bij je aanmelding.
URL:https://www.deteyding.nl/agenda/de-sassemse-cakepicknick/
END:VEVENT
BEGIN:VEVENT
DTSTART;TZID=Europe/Amsterdam:20260606T150000
DTEND;TZID=Europe/Amsterdam:20260606T230000
DTSTAMP:20260422T202056
CREATED:20260110T111747Z
LAST-MODIFIED:20260110T112726Z
UID:52407-1780758000-1780786800@www.deteyding.nl
SUMMARY:Feest op het plein in Voorhout
DESCRIPTION:Op het kerkplein in Voorhout \nCarnaval in Voorhout \n \n 
URL:https://www.deteyding.nl/agenda/feest-op-het-plein-in-voorhout/
END:VEVENT
BEGIN:VEVENT
DTSTART;TZID=Europe/Amsterdam:20260608T200000
DTEND;TZID=Europe/Amsterdam:20260608T230000
DTSTAMP:20260422T202056
CREATED:20251229T145726Z
LAST-MODIFIED:20251229T145726Z
UID:52129-1780948800-1780959600@www.deteyding.nl
SUMMARY:Gemeenteraadsfracties vergaderen
DESCRIPTION:Vergaderingen Teylingen – iBabs Publieksportaal
URL:https://www.deteyding.nl/agenda/gemeenteraadsfracties-vergaderen-5/
LOCATION:Bestuurscentrum Teylingen\, Raadhuisplein 1\, Voorhout
END:VEVENT
BEGIN:VEVENT
DTSTART;TZID=Europe/Amsterdam:20260612T190000
DTEND;TZID=Europe/Amsterdam:20260612T194500
DTSTAMP:20260422T202056
CREATED:20251229T145840Z
LAST-MODIFIED:20251229T145840Z
UID:52131-1781290800-1781293500@www.deteyding.nl
SUMMARY:Presidium Gemeenteraad vergadert
DESCRIPTION:Vergaderingen Teylingen – iBabs Publieksportaal
URL:https://www.deteyding.nl/agenda/presidium-gemeenteraad-vergadert-3/
LOCATION:Bestuurscentrum Teylingen\, Raadhuisplein 1\, Voorhout
END:VEVENT
BEGIN:VEVENT
DTSTART;TZID=Europe/Amsterdam:20260615T200000
DTEND;TZID=Europe/Amsterdam:20260615T230000
DTSTAMP:20260422T202056
CREATED:20251229T145944Z
LAST-MODIFIED:20251229T145944Z
UID:52134-1781553600-1781564400@www.deteyding.nl
SUMMARY:Raadscommissie Welzijn vergadert
DESCRIPTION:Vergaderingen Teylingen – iBabs Publieksportaal
URL:https://www.deteyding.nl/agenda/raadscommissie-welzijn-vergadert-3/
LOCATION:Bestuurscentrum Teylingen\, Raadhuisplein 1\, Voorhout
END:VEVENT
BEGIN:VEVENT
DTSTART;TZID=Europe/Amsterdam:20260616T200000
DTEND;TZID=Europe/Amsterdam:20260616T230000
DTSTAMP:20260422T202056
CREATED:20251229T150049Z
LAST-MODIFIED:20251229T150050Z
UID:52136-1781640000-1781650800@www.deteyding.nl
SUMMARY:Raadscommissie Ruimte vergadert
DESCRIPTION:Vergaderingen Teylingen – iBabs Publieksportaal
URL:https://www.deteyding.nl/agenda/raadscommissie-ruimte-vergadert-2/
LOCATION:Bestuurscentrum Teylingen\, Raadhuisplein 1\, Voorhout
END:VEVENT
BEGIN:VEVENT
DTSTART;TZID=Europe/Amsterdam:20260617T200000
DTEND;TZID=Europe/Amsterdam:20260617T230000
DTSTAMP:20260422T202056
CREATED:20251229T150204Z
LAST-MODIFIED:20251229T150204Z
UID:52138-1781726400-1781737200@www.deteyding.nl
SUMMARY:Raadscommissie Duurzaamheid\, Economie en Bestuur vergadert
DESCRIPTION:Vergaderingen Teylingen – iBabs Publieksportaal
URL:https://www.deteyding.nl/agenda/raadscommissie-duurzaamheid-economie-en-bestuur-vergadert-2/
END:VEVENT
BEGIN:VEVENT
DTSTART;TZID=Europe/Amsterdam:20260622T200000
DTEND;TZID=Europe/Amsterdam:20260622T230000
DTSTAMP:20260422T202056
CREATED:20251229T150339Z
LAST-MODIFIED:20251229T150339Z
UID:52140-1782158400-1782169200@www.deteyding.nl
SUMMARY:Beeldvormende Sessie Gemeenteraad
DESCRIPTION:Vergaderingen Teylingen – iBabs Publieksportaal
URL:https://www.deteyding.nl/agenda/beeldvormende-sessie-gemeenteraad-2/
LOCATION:Bestuurscentrum Teylingen\, Raadhuisplein 1\, Voorhout
END:VEVENT
BEGIN:VEVENT
DTSTART;TZID=Europe/Amsterdam:20260629T200000
DTEND;TZID=Europe/Amsterdam:20260629T230000
DTSTAMP:20260422T202056
CREATED:20251229T150440Z
LAST-MODIFIED:20251229T150440Z
UID:52142-1782763200-1782774000@www.deteyding.nl
SUMMARY:Gemeenteraadsfracties vergaderen
DESCRIPTION:Vergaderingen Teylingen – iBabs Publieksportaal
URL:https://www.deteyding.nl/agenda/gemeenteraadsfracties-vergaderen-6/
LOCATION:Bestuurscentrum Teylingen\, Raadhuisplein 1\, Voorhout
END:VEVENT
BEGIN:VEVENT
DTSTART;TZID=Europe/Amsterdam:20260702T200000
DTEND;TZID=Europe/Amsterdam:20260702T230000
DTSTAMP:20260422T202056
CREATED:20251229T151109Z
LAST-MODIFIED:20251229T151109Z
UID:52145-1783022400-1783033200@www.deteyding.nl
SUMMARY:Gemeenteraad vergadert
DESCRIPTION:Vergaderingen Teylingen – iBabs Publieksportaal
URL:https://www.deteyding.nl/agenda/gemeenteraad-vergadert/
LOCATION:Bestuurscentrum Teylingen\, Raadhuisplein 1\, Voorhout
END:VEVENT
BEGIN:VEVENT
DTSTART;TZID=Europe/Amsterdam:20260706T200000
DTEND;TZID=Europe/Amsterdam:20260706T230000
DTSTAMP:20260422T202056
CREATED:20251229T151220Z
LAST-MODIFIED:20251229T151220Z
UID:52147-1783368000-1783378800@www.deteyding.nl
SUMMARY:Gemeenteraadsfracties vergaderen
DESCRIPTION:Vergaderingen Teylingen – iBabs Publieksportaal
URL:https://www.deteyding.nl/agenda/gemeenteraadsfracties-vergaderen-7/
LOCATION:Bestuurscentrum Teylingen\, Raadhuisplein 1\, Voorhout
END:VEVENT
BEGIN:VEVENT
DTSTART;TZID=Europe/Amsterdam:20260709T200000
DTEND;TZID=Europe/Amsterdam:20260709T230000
DTSTAMP:20260422T202056
CREATED:20251229T151721Z
LAST-MODIFIED:20251229T151721Z
UID:52149-1783627200-1783638000@www.deteyding.nl
SUMMARY:Gemeenteraadsvergadering (kadernota)
DESCRIPTION:Vergaderingen Teylingen – iBabs Publieksportaal
URL:https://www.deteyding.nl/agenda/gemeenteraadsvergadering-kadernota/
LOCATION:Bestuurscentrum Teylingen\, Raadhuisplein 1\, Voorhout
END:VEVENT
BEGIN:VEVENT
DTSTART;TZID=Europe/Amsterdam:20260831T200000
DTEND;TZID=Europe/Amsterdam:20260831T230000
DTSTAMP:20260422T202056
CREATED:20251229T151841Z
LAST-MODIFIED:20251229T151841Z
UID:52151-1788206400-1788217200@www.deteyding.nl
SUMMARY:Vergaderingen van de Gemeenteraadsfracties
DESCRIPTION:Vergaderingen Teylingen – iBabs Publieksportaal
URL:https://www.deteyding.nl/agenda/vergaderingen-van-de-gemeenteraadsfracties/
LOCATION:Bestuurscentrum Teylingen\, Raadhuisplein 1\, Voorhout
END:VEVENT
BEGIN:VEVENT
DTSTART;TZID=Europe/Amsterdam:20260907T200000
DTEND;TZID=Europe/Amsterdam:20260907T230000
DTSTAMP:20260422T202056
CREATED:20251229T152210Z
LAST-MODIFIED:20251229T152210Z
UID:52153-1788811200-1788822000@www.deteyding.nl
SUMMARY:Raadscommissie Welzijn vergadert
DESCRIPTION:Vergaderingen Teylingen – iBabs Publieksportaal
URL:https://www.deteyding.nl/agenda/raadscommissie-welzijn-vergadert-4/
LOCATION:Bestuurscentrum Teylingen\, Raadhuisplein 1\, Voorhout
END:VEVENT
BEGIN:VEVENT
DTSTART;TZID=Europe/Amsterdam:20260908T200000
DTEND;TZID=Europe/Amsterdam:20260908T230000
DTSTAMP:20260422T202056
CREATED:20251229T152359Z
LAST-MODIFIED:20251229T152359Z
UID:52155-1788897600-1788908400@www.deteyding.nl
SUMMARY:Raadscommissie ruimte vergadert
DESCRIPTION:Vergaderingen Teylingen – iBabs Publieksportaal
URL:https://www.deteyding.nl/agenda/raadscommissie-ruimte-vergadert-3/
END:VEVENT
BEGIN:VEVENT
DTSTART;TZID=Europe/Amsterdam:20260909T190000
DTEND;TZID=Europe/Amsterdam:20260909T194500
DTSTAMP:20260422T202056
CREATED:20251229T152505Z
LAST-MODIFIED:20251229T152505Z
UID:52157-1788980400-1788983100@www.deteyding.nl
SUMMARY:Vergadering Presidium Gemeenteraad
DESCRIPTION:Vergaderingen Teylingen – iBabs Publieksportaal
URL:https://www.deteyding.nl/agenda/vergadering-presidium-gemeenteraad/
LOCATION:Bestuurscentrum Teylingen\, Raadhuisplein 1\, Voorhout
END:VEVENT
BEGIN:VEVENT
DTSTART;TZID=Europe/Amsterdam:20260909T200000
DTEND;TZID=Europe/Amsterdam:20260909T230000
DTSTAMP:20260422T202056
CREATED:20251229T152618Z
LAST-MODIFIED:20251229T152618Z
UID:52159-1788984000-1788994800@www.deteyding.nl
SUMMARY:Raadscommissie Duurzaamheid\, Economie en Bestuur vergadert
DESCRIPTION:Vergaderingen Teylingen – iBabs Publieksportaal
URL:https://www.deteyding.nl/agenda/raadscommissie-duurzaamheid-economie-en-bestuur-vergadert-3/
LOCATION:Bestuurscentrum Teylingen\, Raadhuisplein 1\, Voorhout
END:VEVENT
BEGIN:VEVENT
DTSTART;TZID=Europe/Amsterdam:20260921T200000
DTEND;TZID=Europe/Amsterdam:20260921T230000
DTSTAMP:20260422T202056
CREATED:20251229T152723Z
LAST-MODIFIED:20251229T152723Z
UID:52161-1790020800-1790031600@www.deteyding.nl
SUMMARY:Beeldvormende Sessies Gemeenteraad
DESCRIPTION:Vergaderingen Teylingen – iBabs Publieksportaal
URL:https://www.deteyding.nl/agenda/beeldvormende-sessies-gemeenteraad-2/
LOCATION:Bestuurscentrum Teylingen\, Raadhuisplein 1\, Voorhout
END:VEVENT
BEGIN:VEVENT
DTSTART;TZID=Europe/Amsterdam:20260928T200000
DTEND;TZID=Europe/Amsterdam:20260928T230000
DTSTAMP:20260422T202056
CREATED:20251229T152818Z
LAST-MODIFIED:20251229T152818Z
UID:52163-1790625600-1790636400@www.deteyding.nl
SUMMARY:Gemeenteraadsfracties vergaderen
DESCRIPTION:Vergaderingen Teylingen – iBabs Publieksportaal
URL:https://www.deteyding.nl/agenda/gemeenteraadsfracties-vergaderen-8/
LOCATION:Bestuurscentrum Teylingen\, Raadhuisplein 1\, Voorhout
END:VEVENT
BEGIN:VEVENT
DTSTART;TZID=Europe/Amsterdam:20261005T200000
DTEND;TZID=Europe/Amsterdam:20261005T230000
DTSTAMP:20260422T202056
CREATED:20251229T152959Z
LAST-MODIFIED:20251229T152959Z
UID:52165-1791230400-1791241200@www.deteyding.nl
SUMMARY:Gemeenteraadsfracties vergaderen
DESCRIPTION:Vergaderingen Teylingen – iBabs Publieksportaal
URL:https://www.deteyding.nl/agenda/gemeenteraadsfracties-vergaderen-9/
LOCATION:Bestuurscentrum Teylingen\, Raadhuisplein 1\, Voorhout
END:VEVENT
BEGIN:VEVENT
DTSTART;TZID=Europe/Amsterdam:20261012T200000
DTEND;TZID=Europe/Amsterdam:20261012T230000
DTSTAMP:20260422T202056
CREATED:20251229T154409Z
LAST-MODIFIED:20251229T154409Z
UID:52169-1791835200-1791846000@www.deteyding.nl
SUMMARY:Raadscommissie Welzijn vergadert
DESCRIPTION:Vergaderingen Teylingen – iBabs Publieksportaal
URL:https://www.deteyding.nl/agenda/raadscommissie-welzijn-vergadert-5/
LOCATION:Bestuurscentrum Teylingen\, Raadhuisplein 1\, Voorhout
END:VEVENT
BEGIN:VEVENT
DTSTART;TZID=Europe/Amsterdam:20261013T200000
DTEND;TZID=Europe/Amsterdam:20261013T230000
DTSTAMP:20260422T202056
CREATED:20251229T154529Z
LAST-MODIFIED:20251229T154529Z
UID:52171-1791921600-1791932400@www.deteyding.nl
SUMMARY:Raadscommissie Ruimte vergadert
DESCRIPTION:Vergaderingen Teylingen – iBabs Publieksportaal
URL:https://www.deteyding.nl/agenda/raadscommissie-ruimte-vergadert-4/
LOCATION:Bestuurscentrum Teylingen\, Raadhuisplein 1\, Voorhout
END:VEVENT
BEGIN:VEVENT
DTSTART;TZID=Europe/Amsterdam:20261013T200000
DTEND;TZID=Europe/Amsterdam:20261013T230000
DTSTAMP:20260422T202056
CREATED:20260301T164203Z
LAST-MODIFIED:20260301T164203Z
UID:53302-1791921600-1791932400@www.deteyding.nl
SUMMARY:Raadscommissie Ruimte vergadert
DESCRIPTION:https://teylingen.bestuurlijkeinformatie.nl/Agenda/Index/089a26d2-6f39-4173-8df0-639f8f346de2
URL:https://www.deteyding.nl/agenda/raadscommissie-ruimte-vergadert-8/
LOCATION:Bestuurscentrum Teylingen\, Raadhuisplein 1\, Voorhout
END:VEVENT
BEGIN:VEVENT
DTSTART;TZID=Europe/Amsterdam:20261014T190000
DTEND;TZID=Europe/Amsterdam:20261014T194500
DTSTAMP:20260422T202056
CREATED:20251229T154743Z
LAST-MODIFIED:20251229T154743Z
UID:52173-1792004400-1792007100@www.deteyding.nl
SUMMARY:Presidium Gemeenteraad vergadert
DESCRIPTION:Vergaderingen Teylingen – iBabs Publieksportaal
URL:https://www.deteyding.nl/agenda/presidium-gemeenteraad-vergadert-4/
LOCATION:Bestuurscentrum Teylingen\, Raadhuisplein 1\, Voorhout
END:VEVENT
BEGIN:VEVENT
DTSTART;TZID=Europe/Amsterdam:20261014T200000
DTEND;TZID=Europe/Amsterdam:20261014T230000
DTSTAMP:20260422T202056
CREATED:20251229T155234Z
LAST-MODIFIED:20251229T155334Z
UID:52175-1792008000-1792018800@www.deteyding.nl
SUMMARY:Vergadering Raadscommissie Duurzaamheid\, Economie en Bestuur (DEB)
DESCRIPTION:Vergaderingen Teylingen – iBabs Publieksportaal
URL:https://www.deteyding.nl/agenda/vergadering-raadscommissie-duurzaamheid-economie-en-bestuur-deb/
LOCATION:Bestuurscentrum Teylingen\, Raadhuisplein 1\, Voorhout
END:VEVENT
END:VCALENDAR