BEGIN:VCALENDAR
VERSION:2.0
PRODID:-//De Teyding - ECPv6.15.13//NONSGML v1.0//EN
CALSCALE:GREGORIAN
METHOD:PUBLISH
X-WR-CALNAME:De Teyding
X-ORIGINAL-URL:https://www.deteyding.nl
X-WR-CALDESC:Evenementen voor De Teyding
REFRESH-INTERVAL;VALUE=DURATION:PT1H
X-Robots-Tag:noindex
X-PUBLISHED-TTL:PT1H
BEGIN:VTIMEZONE
TZID:Europe/Amsterdam
BEGIN:DAYLIGHT
TZOFFSETFROM:+0100
TZOFFSETTO:+0200
TZNAME:CEST
DTSTART:20250330T010000
END:DAYLIGHT
BEGIN:STANDARD
TZOFFSETFROM:+0200
TZOFFSETTO:+0100
TZNAME:CET
DTSTART:20251026T010000
END:STANDARD
BEGIN:DAYLIGHT
TZOFFSETFROM:+0100
TZOFFSETTO:+0200
TZNAME:CEST
DTSTART:20260329T010000
END:DAYLIGHT
BEGIN:STANDARD
TZOFFSETFROM:+0200
TZOFFSETTO:+0100
TZNAME:CET
DTSTART:20261025T010000
END:STANDARD
BEGIN:DAYLIGHT
TZOFFSETFROM:+0100
TZOFFSETTO:+0200
TZNAME:CEST
DTSTART:20270328T010000
END:DAYLIGHT
BEGIN:STANDARD
TZOFFSETFROM:+0200
TZOFFSETTO:+0100
TZNAME:CET
DTSTART:20271031T010000
END:STANDARD
END:VTIMEZONE
BEGIN:VEVENT
DTSTART;TZID=Europe/Amsterdam:20261014T200000
DTEND;TZID=Europe/Amsterdam:20261014T230000
DTSTAMP:20260423T003653
CREATED:20251229T155234Z
LAST-MODIFIED:20251229T155334Z
UID:52175-1792008000-1792018800@www.deteyding.nl
SUMMARY:Vergadering Raadscommissie Duurzaamheid\, Economie en Bestuur (DEB)
DESCRIPTION:Vergaderingen Teylingen – iBabs Publieksportaal
URL:https://www.deteyding.nl/agenda/vergadering-raadscommissie-duurzaamheid-economie-en-bestuur-deb/
LOCATION:Bestuurscentrum Teylingen\, Raadhuisplein 1\, Voorhout
END:VEVENT
BEGIN:VEVENT
DTSTART;TZID=Europe/Amsterdam:20261029T200000
DTEND;TZID=Europe/Amsterdam:20261029T230000
DTSTAMP:20260423T003653
CREATED:20251229T155601Z
LAST-MODIFIED:20251229T155601Z
UID:52177-1793304000-1793314800@www.deteyding.nl
SUMMARY:Beeldvormende Sessies Gemeenteraad
DESCRIPTION:Vergaderingen Teylingen – iBabs Publieksportaal
URL:https://www.deteyding.nl/agenda/beeldvormende-sessies-gemeenteraad-3/
LOCATION:Bestuurscentrum Teylingen\, Raadhuisplein 1\, Voorhout
END:VEVENT
BEGIN:VEVENT
DTSTART;TZID=Europe/Amsterdam:20261102T200000
DTEND;TZID=Europe/Amsterdam:20261102T230000
DTSTAMP:20260423T003653
CREATED:20251229T160056Z
LAST-MODIFIED:20251229T160056Z
UID:52179-1793649600-1793660400@www.deteyding.nl
SUMMARY:Vergaderingen Gemeenteraadsfracties
DESCRIPTION:Vergaderingen Teylingen – iBabs Publieksportaal
URL:https://www.deteyding.nl/agenda/vergaderingen-gemeenteraadsfracties/
LOCATION:Bestuurscentrum Teylingen\, Raadhuisplein 1\, Voorhout
END:VEVENT
BEGIN:VEVENT
DTSTART;TZID=Europe/Amsterdam:20261105T200000
DTEND;TZID=Europe/Amsterdam:20261105T230000
DTSTAMP:20260423T003653
CREATED:20251229T160301Z
LAST-MODIFIED:20251229T160301Z
UID:52181-1793908800-1793919600@www.deteyding.nl
SUMMARY:Gemeenteraadsvergadering (begrotingsraad)
DESCRIPTION:Vergaderingen Teylingen – iBabs Publieksportaal \nLet op: kijk op die site naar het aanvangstijdstip\, regelmatig negint deze vergadering eerder.
URL:https://www.deteyding.nl/agenda/gemeenteraadsvergadering-begrotingsraad/
END:VEVENT
BEGIN:VEVENT
DTSTART;TZID=Europe/Amsterdam:20261109T200000
DTEND;TZID=Europe/Amsterdam:20261109T230000
DTSTAMP:20260423T003653
CREATED:20251229T160456Z
LAST-MODIFIED:20251229T160456Z
UID:52183-1794254400-1794265200@www.deteyding.nl
SUMMARY:Raadsfracties vergaderen
DESCRIPTION:Vergaderingen Teylingen – iBabs Publieksportaal
URL:https://www.deteyding.nl/agenda/raadsfracties-vergaderen/
LOCATION:Bestuurscentrum Teylingen\, Raadhuisplein 1\, Voorhout
END:VEVENT
BEGIN:VEVENT
DTSTART;TZID=Europe/Amsterdam:20261112T200000
DTEND;TZID=Europe/Amsterdam:20261112T230000
DTSTAMP:20260423T003653
CREATED:20251229T160610Z
LAST-MODIFIED:20251229T160610Z
UID:52185-1794513600-1794524400@www.deteyding.nl
SUMMARY:Gemeenteraadsvergadering
DESCRIPTION:Vergaderingen Teylingen – iBabs Publieksportaal
URL:https://www.deteyding.nl/agenda/gemeenteraadsvergadering-4/
LOCATION:Bestuurscentrum Teylingen\, Raadhuisplein 1\, Voorhout
END:VEVENT
BEGIN:VEVENT
DTSTART;TZID=Europe/Amsterdam:20261116T200000
DTEND;TZID=Europe/Amsterdam:20261116T230000
DTSTAMP:20260423T003653
CREATED:20251229T160732Z
LAST-MODIFIED:20251229T160732Z
UID:52187-1794859200-1794870000@www.deteyding.nl
SUMMARY:Raadsfracties vergaderen
DESCRIPTION:Vergaderingen Teylingen – iBabs Publieksportaal
URL:https://www.deteyding.nl/agenda/raadsfracties-vergaderen-2/
END:VEVENT
BEGIN:VEVENT
DTSTART;TZID=Europe/Amsterdam:20261123T200000
DTEND;TZID=Europe/Amsterdam:20261123T230000
DTSTAMP:20260423T003653
CREATED:20251229T160839Z
LAST-MODIFIED:20251229T160839Z
UID:52189-1795464000-1795474800@www.deteyding.nl
SUMMARY:Vergadering Gemeenteraadscommissie Welzijn
DESCRIPTION:Vergaderingen Teylingen – iBabs Publieksportaal
URL:https://www.deteyding.nl/agenda/vergadering-gemeenteraadscommissie-welzijn/
LOCATION:Bestuurscentrum Teylingen\, Raadhuisplein 1\, Voorhout
END:VEVENT
BEGIN:VEVENT
DTSTART;TZID=Europe/Amsterdam:20261124T200000
DTEND;TZID=Europe/Amsterdam:20261124T230000
DTSTAMP:20260423T003653
CREATED:20251229T160951Z
LAST-MODIFIED:20251229T160951Z
UID:52191-1795550400-1795561200@www.deteyding.nl
SUMMARY:Vergadering Raadscommissie Ruimte
DESCRIPTION:Vergaderingen Teylingen – iBabs Publieksportaal
URL:https://www.deteyding.nl/agenda/vergadering-raadscommissie-ruimte/
LOCATION:Bestuurscentrum Teylingen\, Raadhuisplein 1\, Voorhout
END:VEVENT
BEGIN:VEVENT
DTSTART;TZID=Europe/Amsterdam:20261125T190000
DTEND;TZID=Europe/Amsterdam:20261125T194500
DTSTAMP:20260423T003653
CREATED:20251229T161217Z
LAST-MODIFIED:20251229T161217Z
UID:52195-1795633200-1795635900@www.deteyding.nl
SUMMARY:Presidium Gemeenteraad vergadert
DESCRIPTION:Vergaderingen Teylingen – iBabs Publieksportaal
URL:https://www.deteyding.nl/agenda/presidium-gemeenteraad-vergadert-5/
LOCATION:Bestuurscentrum Teylingen\, Raadhuisplein 1\, Voorhout
END:VEVENT
BEGIN:VEVENT
DTSTART;TZID=Europe/Amsterdam:20261125T200000
DTEND;TZID=Europe/Amsterdam:20261125T230000
DTSTAMP:20260423T003653
CREATED:20251229T161113Z
LAST-MODIFIED:20251229T161113Z
UID:52193-1795636800-1795647600@www.deteyding.nl
SUMMARY:Vergadering Raadscommissie Duurzaamheid\, Economie en Bestuur
DESCRIPTION:Vergaderingen Teylingen – iBabs Publieksportaal
URL:https://www.deteyding.nl/agenda/vergadering-raadscommissie-duurzaamheid-economie-en-bestuur/
LOCATION:Bestuurscentrum Teylingen\, Raadhuisplein 1\, Voorhout
END:VEVENT
BEGIN:VEVENT
DTSTART;TZID=Europe/Amsterdam:20261207T200000
DTEND;TZID=Europe/Amsterdam:20261207T230000
DTSTAMP:20260423T003653
CREATED:20251229T161414Z
LAST-MODIFIED:20251229T161414Z
UID:52198-1796673600-1796684400@www.deteyding.nl
SUMMARY:Vergaderingen van de Gemeenteraadsfracties
DESCRIPTION:Vergaderingen Teylingen – iBabs Publieksportaal
URL:https://www.deteyding.nl/agenda/vergaderingen-van-de-gemeenteraadsfracties-2/
LOCATION:Bestuurscentrum Teylingen\, Raadhuisplein 1\, Voorhout
END:VEVENT
BEGIN:VEVENT
DTSTART;TZID=Europe/Amsterdam:20261210T200000
DTEND;TZID=Europe/Amsterdam:20261210T230000
DTSTAMP:20260423T003653
CREATED:20251229T161547Z
LAST-MODIFIED:20251229T161547Z
UID:52200-1796932800-1796943600@www.deteyding.nl
SUMMARY:Gemeenteraadsvergadering
DESCRIPTION:Vergaderingen Teylingen – iBabs Publieksportaal
URL:https://www.deteyding.nl/agenda/gemeenteraadsvergadering-5/
LOCATION:Bestuurscentrum Teylingen\, Raadhuisplein 1\, Voorhout
END:VEVENT
BEGIN:VEVENT
DTSTART;TZID=Europe/Amsterdam:20261214T200000
DTEND;TZID=Europe/Amsterdam:20261214T230000
DTSTAMP:20260423T003653
CREATED:20251229T161711Z
LAST-MODIFIED:20251229T161711Z
UID:52202-1797278400-1797289200@www.deteyding.nl
SUMMARY:Beeldvormende Sessies Gemeenteraad
DESCRIPTION:Vergaderingen Teylingen – iBabs Publieksportaal
URL:https://www.deteyding.nl/agenda/beeldvormende-sessies-gemeenteraad-4/
LOCATION:Bestuurscentrum Teylingen\, Raadhuisplein 1\, Voorhout
END:VEVENT
END:VCALENDAR