BEGIN:VCALENDAR
VERSION:2.0
PRODID:-//De Teyding - ECPv6.15.13//NONSGML v1.0//EN
CALSCALE:GREGORIAN
METHOD:PUBLISH
X-WR-CALNAME:De Teyding
X-ORIGINAL-URL:https://www.deteyding.nl
X-WR-CALDESC:Evenementen voor De Teyding
REFRESH-INTERVAL;VALUE=DURATION:PT1H
X-Robots-Tag:noindex
X-PUBLISHED-TTL:PT1H
BEGIN:VTIMEZONE
TZID:Europe/Amsterdam
BEGIN:DAYLIGHT
TZOFFSETFROM:+0100
TZOFFSETTO:+0200
TZNAME:CEST
DTSTART:20250330T010000
END:DAYLIGHT
BEGIN:STANDARD
TZOFFSETFROM:+0200
TZOFFSETTO:+0100
TZNAME:CET
DTSTART:20251026T010000
END:STANDARD
BEGIN:DAYLIGHT
TZOFFSETFROM:+0100
TZOFFSETTO:+0200
TZNAME:CEST
DTSTART:20260329T010000
END:DAYLIGHT
BEGIN:STANDARD
TZOFFSETFROM:+0200
TZOFFSETTO:+0100
TZNAME:CET
DTSTART:20261025T010000
END:STANDARD
BEGIN:DAYLIGHT
TZOFFSETFROM:+0100
TZOFFSETTO:+0200
TZNAME:CEST
DTSTART:20270328T010000
END:DAYLIGHT
BEGIN:STANDARD
TZOFFSETFROM:+0200
TZOFFSETTO:+0100
TZNAME:CET
DTSTART:20271031T010000
END:STANDARD
END:VTIMEZONE
BEGIN:VEVENT
DTSTART;TZID=Europe/Amsterdam:20260322T093000
DTEND;TZID=Europe/Amsterdam:20260322T130000
DTSTAMP:20260422T114726
CREATED:20260309T124713Z
LAST-MODIFIED:20260309T124713Z
UID:53472-1774171800-1774184400@www.deteyding.nl
SUMMARY:Vogelexcursie met koeienschuit (aanmelden)
DESCRIPTION:Zondag 22 maart: Vogelexcursie met\nkoeienschuit naar de Klaas Hennepoel polder:\nWelkom Grutto! (09.30 – plm.13.00 uur) \nNu de kou door de vroeg invallende lente definitief verdreven lijkt te zijn uit onze\ncontreien en de bermen weer kleur krijgen dankzij krokussen en narcissen\, kunnen\nwe ons weer op mooie lentedagen verheugen! En met de terugkeer van de\nlentevogel bij uitstek\, de grutto\, (ja\, hij was vroeg dit jaar!) weet je zeker dat een\nnieuw seizoen is aangebroken. Na een energieverslindende tocht van duizenden\nkilometers zijn de grutto’s uitgehongerd teruggekeerd uit Spanje en Afrika. Na een\nkorte periode van rust en opvetten\, onder andere in de Klaas Hennepoelpolder\, gaan\nzij de polders van het Kagerplassengebied in om te broeden. \nMaart is sowieso een leuke maand om de natuur in te trekken; omdat niet alleen de\nzomergasten terugkeren\, maar ook sommige overwinteraars zoals bijvoorbeeld\nsmienten nog niet weg zijn. Ze zijn zich nog volop aan het voorbereiden alvorens te\nvertrekken voor de reis naar hun broedgebieden in Siberië. Maar ook andere\nwintergasten zoals de grote zilverreigers\, kieviten\, futen\, meeuwen-\, eenden- en\nganzensoorten houden zich nog even op in onze polders. Wij hebben berichten dat\nmenig paartje al is begonnen met de broed-voorbereidingen\, maar hopelijk is er nog\nvoldoende te zien en te beleven in de Klaas Hennepoelpolder…\nAlle reden dus voor een eerste vaarexcursie in dit nieuwe seizoen. Op zondag 22\nmaart a.s. verzamelen we om 09.30 uur bij het Natuur Ontdekking Centrum op\nKoudenhoorn. Na een korte introductie door vrijwilligers van het NOCK stappen we\naan boord van de koeienschuit van Willem vd Voort om met eigen ogen de eerste\nnieuwkomers en laatste wintergasten te aanschouwen in de Veerpolders. De\nexcursie wordt begeleid door vrijwilligers van het NOCK\, de ervaren vogelgidsen\nJohn Stigters\, Hans van Ek en Jan van Arkel. (zij kunnen ook tips geven om mooie\nfoto’s te maken!) Om ongeveer 13.00 uur zijn we dan weer terug bij het Natuur\nOntdekking Centrum. De kosten voor deze excursie bedragen 7 euro pp. (kinderen\ntot 12 jaar 4 euro) en omdat er maar beperkt plaats is op de schuit\, is aanmelden\nnoodzakelijk.\nAanmelden kan alleen via ons bekende emailadres :\ninfo@koudenhoornontdekken.nl\nA.u.b contant en gepast betalen… En wellicht ten overvloede: meevaren is op\neigen risico.\nHoe komt u bij het NOCK? Komt u met de auto\, dan kunt u parkeren op de\ngemeentehaven in Warmond. Dan lopend (of fietsend) de brug oversteken; links\naanhouden en direct daarna rechts aanhouden richting Brasserie Coazy. Het NOCK\nbevindt zich aan de achterkant van COAZY.
URL:https://www.deteyding.nl/agenda/vogelexcursie-met-koeienschuit-aanmelden/
LOCATION:Natuurontdekkingcentrum Koudenhoorn NOCK\, Recreatie-eiland Koudenhoorn\, Warmond
END:VEVENT
BEGIN:VEVENT
DTSTART;TZID=Europe/Amsterdam:20260322T150000
DTEND;TZID=Europe/Amsterdam:20260322T150000
DTSTAMP:20260422T114726
CREATED:20260308T104848Z
LAST-MODIFIED:20260308T104848Z
UID:53441-1774191600-1774191600@www.deteyding.nl
SUMMARY:Toneelstuk voor kinderen: Opstand in sprookjesland
DESCRIPTION:Warmond: Kom gauw kijken bij de Opstand in Sprookjesland van Theatergroep\nRaponsel op zondag 22 maart om 15.00 uur in theater het Trefpunt \nHet is onrustig in sprookjesland. Al jaren worden de sprookjes voorgelezen en spelen de\nsprookjesfiguren dezelfde rol. Maar eigenlijk wil Roodkapje liever Sneeuwwitje spelen. En\nAssepoester wil wel eens iets anders dan altijd alleen maar schoonmaken. Dus komen ze\nin opstand! Maar de Verteller wil liever alles bij het oude houden en komt dan met een\nonheilspellende waarschuwing: hij zal een nieuw verhaal vertellen\, maar … dan moet\niedereen wel precies doen wat hij zegt. En dan blijkt dat niet elke verandering altijd een\nverbetering is. Ben je benieuwd of het goed afloopt en iedereen nog lang en gelukkig zal\nleven? Kom dan gauw bij ons kijken.\nKaarten kosten €9\,75 en zijn verkrijgbaar via www.theaterhettrefpunt.nl of een half uur\nvoor aanvang aan de zaal (Herenweg 80 Warmond).
URL:https://www.deteyding.nl/agenda/toneelstuk-voor-kinderen-opstand-in-sprookjesland/
LOCATION:Theater Het Trefpunt\, Herenweg 80\, Warmond\, Nederland
END:VEVENT
BEGIN:VEVENT
DTSTART;TZID=Europe/Amsterdam:20260322T160000
DTEND;TZID=Europe/Amsterdam:20260322T160000
DTSTAMP:20260422T114726
CREATED:20260227T083610Z
LAST-MODIFIED:20260227T083610Z
UID:53234-1774195200-1774195200@www.deteyding.nl
SUMMARY:Hoogtepunten uit Matthäuspassion
DESCRIPTION:HOOGTEPUNTEN UIT DE MATTHÄUS PASSION VAN J.S BACH IN WARMOND \nOp zondagmiddag 22 maart 2026 organiseert de Stichting Kerkelijk Erfgoed\nWarmond (KEW ) in de aanloop naar Pasen een matineeconcert met de\nmooiste Koralen en Aria’s uit de Matthäus Passion van Johan Sebastiaan Bach\nin de Protestantse Kerk in Warmond\, Herenweg 82 .\nOok dit jaar zal het concert worden uitgevoerd door de Christelijke Oratorium\nVereniging Ex Animo uit Leiden met diverse solisten en o.a. met begeleiding\nvan het monumentale Lohmanorgel; dit alles onder leiding van dirigent Wim de\nRu\, sinds 1978 onafgebroken de bevlogen dirigent van het koor .\nNa in 1940 te zijn begonnen met de uitvoering van alleen de koralen van de\nMatthäus Passion brengt het koor sinds 1942 jaarlijks het meesterwerk van\nJohan Sebastiaan Bach in de Leidse Pieterskerk ten gehore.\nHet concert in Warmond vangt aan om 16.00 uur en eindigt rond 17.15 uur.\nEr is geen pauze .\nMuziekliefhebbers zijn van harte welkom vanaf 15.30 uur .\nDe toegang bedraagt € 25 .–; t/m 15 jaar gratis.\nKaarten zijn in de voorverkoop te bestellen via : www.stichtingvriendenkew.nl\nof via info@stichtingvriendenkew.nl\nParkeren achter de kerk op de Krogt via de Laan van Oostergeest
URL:https://www.deteyding.nl/agenda/hoogtepunten-uit-matthauspassion/
LOCATION:Protestantse kerk\, Herenweg 82\, Warmond
END:VEVENT
BEGIN:VEVENT
DTSTART;TZID=Europe/Amsterdam:20260324T193000
DTEND;TZID=Europe/Amsterdam:20260324T193000
DTSTAMP:20260422T114726
CREATED:20260223T133040Z
LAST-MODIFIED:20260223T133040Z
UID:53217-1774380600-1774380600@www.deteyding.nl
SUMMARY:Interview met Splinter Chabot (aanmelden)
DESCRIPTION:Dinsdag 24 maart interview Splinter Chabot\nOp uitnodiging van boekhandel Wagner brengt Splinter Chabot op dinsdag\n24 maart een bezoek aan Sassenheim. Naar aanleiding van zijn boek Twee\nprinsen zal hij om 19.30 uur geïnterviewd worden. Natuurlijk is er de\nmogelijkheid om zelf vragen te stellen en zal Splinter Chabot aansluitend voor\nde liefhebber zijn boek willen signeren.\nOver de auteur:\nSplinter Chabot (Den Haag\, 3 maart 1996) is een Nederlandse schrijver\,\nprogrammamaker en presentator. Chabot is de derde van vier zoons van dichter en\nschrijver Bart Chabot en diens vrouw Yolanda Chabot\, die arts is. Hij groeide op in\neen hecht gezin in de Haagse wijk Benoordenhout\, speelde als kind viool en zat op\ntoneel en paardrijden. Chabot ging naar het Vrijzinnig-Christelijk Lyceum in Den\nHaag en studeerde vanaf 2014 politicologie aan de Universiteit van Amsterdam. In\n2020 liet hij weten nog met zijn bachelorscriptie bezig te zijn voor politicologie.\nIn 2026 bleek tijdens deelname aan het televisieprogramma Verborgen verleden dat\nzijn familienaam Chabot afkomstig was uit Frankrijk. Zijn voorvader Pierre François\nChabot was begin negentiende eeuw als militair gestationeerd in Maastricht en\nbesloot na een huwelijk met een Nederlands meisje in de Nederlanden te blijven. Hij\nwas afkomstig uit de Franse plaats Scillé\, waar de familie Chabot zich al eeuwen\ngevestigd had. De oorspronkelijke uitspraak van de achternaam is zodoende Sjabo\,\nin plaats van het door de familie gebruikte Sjabot.\nOver het boek:\nWanneer Richard naar het kleurrijke\, zonnige Rome vlucht\, ontmoet hij de\nengelachtige Matteo. Terwijl de twintigers de eeuwige stad en elkaar ontdekken\,\nprobeert Richard zich te verzoenen met zijn verleden. Verlost van zijn streng\ngereformeerde ouders en het grauwe platteland lijkt Richard voor niets en niemand\nbang\, maar zijn stoerheid blijkt al snel een pose\, een schild waarmee hij zijn\nonzekerheden probeert te verbergen. Het is de liefde van de speelse\, sensuele\nMatteo die hem helpt zijn angsten te overwinnen.\nVoor korte tijd is Rome de hemel op aarde\, totdat Richard en Matteo zich ook daar\nmoeten verstoppen voor de blikken\, meningen en vuisten van anderen. Deze keer\nzal Richard het er niet bij laten zitten.\nTwee Prinsen is een meeslepende roman over vrijheid en onvrijheid\, over religie\,\nliefde en lust en over twee jongens die voor even het sprookje leven dat al eeuwen\nniet mag bestaan.\nAanvang: Het interview vangt aan om 19.30 uur\, ontvangst vanaf 19.00 uur.\nToegang: € 15\,00 incl. kopje koffie/thee bij ontvangst. \nLocatie: Boekhandel Wagner\, Hoofdstraat 181\, Sassenheim.\nVoldoende parkeergelegenheid voor de winkel.
URL:https://www.deteyding.nl/agenda/interview-met-splinter-chabot-aanmelden/
LOCATION:Boekhandel Wagner\, Hoofdstraat 181\, Sassenheim\, Nederland
END:VEVENT
BEGIN:VEVENT
DTSTART;TZID=Europe/Amsterdam:20260325T100000
DTEND;TZID=Europe/Amsterdam:20260325T110000
DTSTAMP:20260422T114726
CREATED:20260309T122939Z
LAST-MODIFIED:20260309T122939Z
UID:53470-1774432800-1774436400@www.deteyding.nl
SUMMARY:Koffiespeeltuin over motorische ontwikkeling
DESCRIPTION:Koffiespeeltuin over motorische ontwikkeling \nIn de Koffiespeeltuin in de Bibliotheek Voorhout staat op dinsdag 25 maart de motorische ontwikkeling van jonge kinderen centraal. De kinderfysiotherapeut van Trias Kids is aanwezig om haar kennis te delen over de verschillende fasen van groei en bewegen. Zij laat zien hoe kinderen hun bewegingen uitvoeren en welke basisoefeningen hen kunnen helpen bij zowel grove als fijne motoriek. Ook komt prikkelverwerking aan bod en hoe spel daarbij kan ondersteunen. \nDe Koffiespeeltuin is een maandelijkse ontmoetingsplek waar (aanstaande) ouders met hun (klein)kinderen tot en met 4 jaar kunnen spelen\, boekjes lezen en ervaringen uitwisselen. De inloop is vanaf 9.30 uur en de Koffiespeeltuin is van 10.00-11.00 uur. Deelname is gratis en aanmelden is niet nodig. De Koffiespeeltuin is een samenwerking tussen het CJG Teylingen en de Bibliotheek Bollenstreek. \n 
URL:https://www.deteyding.nl/agenda/koffiespeeltuin-over-motorische-ontwikkeling/
LOCATION:Bibliotheek Voorhout\, Herenstraat 48\, Voorhout\, Nederland
END:VEVENT
BEGIN:VEVENT
DTSTART;TZID=Europe/Amsterdam:20260325T100000
DTEND;TZID=Europe/Amsterdam:20260325T120000
DTSTAMP:20260422T114726
CREATED:20260324T105730Z
LAST-MODIFIED:20260324T105730Z
UID:53852-1774432800-1774440000@www.deteyding.nl
SUMMARY:Fairtrade koffieproeverij
DESCRIPTION:Fairtrade koffieproeverij – iedereen welkom!\nOp 25 maart organiseert de Werkgroep Teylingen Fairtrade samen met Welzijn Teylingen een gezellige koffieproeverij in Speeltuin Bijdorp (Krelagehove 2\, Sassenheim). Tussen 10:00 en 12:00 uur kun je 5 verschillende Fairtrade koffiesoorten proeven\, in gesprek gaan en ontdekken wat eerlijke handel betekent in het dagelijks leven. De koffie wordt gesponsord door AH Sassenheim.\nFairtrade koffie hoeft geen compromis te zijn\, qua smaak en ook niet extra duur zijn. Het is heerlijk én eerlijk. \nKom en wordt verrast door de smaakverschillen van soorten Fairtrade koffie en kies jouw nieuwe favoriet. De ochtend is voor iedereen toegankelijk\, je kunt gewoon even binnenlopen.\nDeze koffieproeverij is een speciaal programma binnen het wekelijkse Buurtbakkie in de speeltuin op woensdagochtend\n. Na een korte introductie proeven we vijf soorten Fairtrade koffie\, met kleine pauzes tussen de smaken. Via een eenvoudig evaluatieformulier kan iedereen aangeven wat hij of zij van de smaken vindt. Tussendoor hoor je leuke en interessante weetjes over koffie\, de Fairtrade handelsketen en de verhalen achter de bonen. Aan het einde bekijken we samen welke koffie als favoriet naar voren komt.
URL:https://www.deteyding.nl/agenda/fairtrade-koffieproeverij/
LOCATION:Speeltuinvereniging Bijdorp\, Krelagehove 2\, Sassenheim
END:VEVENT
BEGIN:VEVENT
DTSTART;TZID=Europe/Amsterdam:20260325T180000
DTEND;TZID=Europe/Amsterdam:20260325T210000
DTSTAMP:20260422T114726
CREATED:20260221T105608Z
LAST-MODIFIED:20260221T105608Z
UID:53199-1774461600-1774472400@www.deteyding.nl
SUMMARY:Inloopbijeenkomst voorlopig ontwerp nieuwbouw Bernardus
DESCRIPTION:Uitnodiging inloopbijeenkomst 25 maart\nGoed nieuws: het aangepaste voorlopige ontwerp voor nieuwbouw Bernardus is gereed. De afgelopen tijd heeft het ontwerpteam\, samen met de ingeschakelde experts\, de punten op de ‘i’ gezet van het ontwerp. Dit moment grijpen we graag aan om het voorlopige ontwerp met u te delen en uw mening erover te horen. We nodigen u daarom van harte uit voor onze: \nInloopbijeenkomst\nDatum: 25 maart\nTijd: 18:00 – 21:00 uur\nLocatie: Bernardus Sassenheim\, Hoofdstraat 82\,Tuinzaal \nU kunt vrij inlopen\, het ontwerp bekijken en hierover in gesprek gaan met het ontwerpteam. \nKomt u langs?\nWe kijken ernaar uit u weer te ontmoeten. Graag tot de 25e!
URL:https://www.deteyding.nl/agenda/inloopbijeenkomst-voorlopig-ontwerp-nieuwbouw-bernardus/
LOCATION:Bernardus\, Hoofdstraat 82\, Sassenheim
END:VEVENT
BEGIN:VEVENT
DTSTART;TZID=Europe/Amsterdam:20260326T140000
DTEND;TZID=Europe/Amsterdam:20260326T160000
DTSTAMP:20260422T114726
CREATED:20260309T122735Z
LAST-MODIFIED:20260309T122735Z
UID:53468-1774533600-1774540800@www.deteyding.nl
SUMMARY:Cursus mobiele telefoon (26/3\, 2 en 9/4) (aanmelden)
DESCRIPTION:Cursus mobiele telefoon \nDe Bibliotheek Sassenheim start op donderdag 26 maart van 14.00-16.00 uur met een praktische cursus voor iedereen die meer uit zijn mobiele telefoon wil halen. In drie bijeenkomsten leren deelnemers onder begeleiding van ervaren medewerkers hoe ze hun mobiele telefoon beter kunnen gebruiken. \nDe cursus is bedoeld voor mensen die hun mobiele telefoon beter willen leren gebruiken. Denk aan het instellen van apps\, het versturen van berichten\, het maken van foto’s of het regelen van online zaken. Door meer inzicht te krijgen in de mogelijkheden én valkuilen van hun apparaat\, worden deelnemers minder afhankelijk van anderen. \nDeze cursus bestaat uit drie bijeenkomsten: 26 maart\, 2 en 9 april. Deelname kost € 12\,00 voor leden en € 16\,00 voor niet-leden. Aanmelden kan via de website van de Bibliotheek Bollenstreek www.bibliotheekbollenstreek.nl of aan de balie van de bibliotheek. \n 
URL:https://www.deteyding.nl/agenda/cursus-mobiele-telefoon-26-3-2-en-9-4-aanmelden/
LOCATION:Bibliotheek Sassenheim\, Kerklaan 42\, 2171 GC
END:VEVENT
BEGIN:VEVENT
DTSTART;TZID=Europe/Amsterdam:20260326T160000
DTEND;TZID=Europe/Amsterdam:20260326T180000
DTSTAMP:20260422T114726
CREATED:20260324T105409Z
LAST-MODIFIED:20260324T105409Z
UID:53850-1774540800-1774548000@www.deteyding.nl
SUMMARY:Inloopbijeenkomst zelfbouwwoningen Langeveld
DESCRIPTION:Op donderdag 26 maart is er een inloopbijeenkomst over de mogelijkheid van tien zelfbouwwoningen voor het project Langeveld in Sassenheim. Er zijn zes patiowoningen beschikbaar die gezamenlijk met de toekomstige buren worden ontwikkeld\, via ‘Collectief Particulier Opdrachtgeverschap’. Ook zijn er vier vrije kavels beschikbaar die individueel worden ontwikkeld\, via ‘Particulier Opdrachtgeverschap’. De bijeenkomst is van 16:00 – 18:00 uur in het gemeentekantoor\, Wilhelminalaan 25 in Sassenheim. Het doel van deze bijeenkomst is dat geïnteresseerden hun vragen kunnen stellen over het project. Vooraf aanmelden is niet nodig. Op donderdag 12 maart vond al een goed bezochte informatiebijeenkomst plaats met een presentatie over de zelfbouwwoningen.
URL:https://www.deteyding.nl/agenda/inloopbijeenkomst-zelfbouwwoningen-langeveld/
END:VEVENT
BEGIN:VEVENT
DTSTART;VALUE=DATE:20260328
DTEND;VALUE=DATE:20260330
DTSTAMP:20260422T114726
CREATED:20260324T110112Z
LAST-MODIFIED:20260324T110112Z
UID:53854-1774663200-1774749599@www.deteyding.nl
SUMMARY:Palmpasen 2026 Sint Pancratius (28/29 maart)
DESCRIPTION:Palmpasen 2026 Sint Pancratius Sassenheim\nOok dit jaar vieren we samen Palmpasen in Sassenheim. Kinderen kunnen weer een\nmooie palmpaasstok maken en deze uitdelen.\nAanmelden\nOpgeven voor het maken van een palmpaasstok kan tot en met woensdag 25 maart\n2026 via sintpancratius@parochiesintmaarten.nl (Faja Jacobs) of via 06-24227212\n(Nadine van der Vlugt)\nBelangrijk\nIedereen zorgt zelf voor een palmpaasstok.\nMogelijkheden om de palmpaasstok te versieren:\n Je kunt op zaterdag 28 maart tussen 9:30 en 10.30 uur een zakje met\ninhoud\, waaronder een broodhaasje\, ophalen bij de pastorie van de Sint\nPancratius en thuis zelf de palmpaasstok versieren.\n Of je kunt op zondag 29 maart (dit is anders dan andere jaren) om 10.00 uur\nnaar de pastorie van de Sint Pancratius komen om daar samen de\npalmpaasstok te versieren. Let op: Er is geen viering in de Sint Pancratius.\nGraag aangeven bij de aanmelding van het kind.\nGezinsviering Noordwijkerhout\nIn Noordwijkerhout is er op zondag 29 maart om 10.00 uur in de Sint Victor een\ngezinsviering m.m.v. kinderkoor Vivo. Hier kan men de palmpaasstok laten zegenen\nen een palmtakje ontvangen.\nDe kinderen die mee willen gaan naar de Bernardus kunnen na de viering naar\nSassenheim komen. Wij wachten op hen zodat wij gezamenlijk naar de Bernardus\nkunnen vertrekken.\nMuzikale optocht naar Bernardus\nZondag 29 maart om 11.15 uur vertrekken we onder begeleiding van Jeugdband\nAdest Musica naar de Bernardus. De Palmpaasstokken worden door Hans van Wijk.\nDaarna kunnen de palmpaasstokken worden uitgedeeld aan de bewoners.
URL:https://www.deteyding.nl/agenda/palmpasen-2026-sint-pancratius-28-29-maart/
END:VEVENT
BEGIN:VEVENT
DTSTART;TZID=Europe/Amsterdam:20260328T090000
DTEND;TZID=Europe/Amsterdam:20260328T130000
DTSTAMP:20260422T114726
CREATED:20260324T122036Z
LAST-MODIFIED:20260324T122036Z
UID:53871-1774688400-1774702800@www.deteyding.nl
SUMMARY:Kom gratis compost scheppen
DESCRIPTION:(bericht van de gemeente Teylingen)\nKom gratis compost scheppen op zaterdag 28 maart\nMaak uw tuin klaar voor de lente en kom op zaterdag 28 maart naar de Landelijke Compostdag. U kunt zelf compost scheppen van uw eigen groenafval en etensresten (GFT-e) Neem een emmer\, zak of teiltje mee. \nLocatie en tijd\nVan 09.00 tot 13.00 uur op de parkeerplaats voor het Gemeentekantoor\, Wilhelminalaan 25 in Sassenheim. \nNeem uw legitimatie mee\nWe kunnen om een legitimatiebewijs en/of milieupas vragen. Neem deze dus mee. \nMeerlanden bedankt bewoners\nMeerlanden bedankt u voor het scheiden van uw GFT-e. Van schone GFT-e maken we compost van goede kwaliteit. Dat is goed voor de bodem en helpt planten op een natuurlijke manier te groeien. Van groenafval worden zes producten gemaakt: \n\nGroengas – brandstof voor onze wagens\nCO₂ – groeiverbeteraar voor planten\nWarmte – voor glastuinbouw\nCompost – bodemverbeteraar\nWater – voor straatreiniging\, onkruidbestrijding en strooiwagens\nCitrusbrandstof – duurzame onkruidbestrijding\n\nBelangrijk: Meng compost met aarde\nCompost is een toevoeging aan de bodem. Meng compost altijd met (tuin)aarde. Planten groeien namelijk niet goed in alleen compost.
URL:https://www.deteyding.nl/agenda/kom-gratis-compost-scheppen/
END:VEVENT
BEGIN:VEVENT
DTSTART;TZID=Europe/Amsterdam:20260328T100000
DTEND;TZID=Europe/Amsterdam:20260328T123000
DTSTAMP:20260422T114726
CREATED:20260320T085027Z
LAST-MODIFIED:20260322T104913Z
UID:53813-1774692000-1774701000@www.deteyding.nl
SUMMARY:Inzameling Lions voor voedselbank
DESCRIPTION:Lions Warmond Slot Teylingen organiseert Boter\, Kaas en (Paas)eieren- \nactie voor Voedselbank Teylingen \nWarmond/Teylingen – Op zaterdag 28 maart organiseert Lions Club Warmond Slot Teylingen\nopnieuw de jaarlijkse Boter\, Kaas en (Paas)eieren-actie. Tussen 10.00 en 12.30 uur staan leden\nvan de Lions bij verschillende supermarkten in de regio om etenswaren in te zamelen voor de\nVoedselbank Teylingen.\nDe inzameling vindt plaats bij de volgende supermarkten:\n– Dirk van den Broek in Sassenheim\n– Plus in Voorhout\n– Albert Heijn in Warmond\nDe actie richt zich specifiek op producten zoals boter\, kaas en (Paas)eieren. Deze\nvoedingsmiddelen maken geen onderdeel uit van het standaardpakket van de voedselbank\,\nterwijl er juist rond de paasdagen veel behoefte aan is.\n“Met deze actie willen we gezinnen in onze regio net dat beetje extra bieden\,” aldus Lions Club\nWarmond Slot Teylingen. “Juist rond feestdagen is het belangrijk dat iedereen kan meedoen.”\nBezoekers van de supermarkten kunnen eenvoudig bijdragen door één of meerdere producten\nextra te kopen en deze bij de Lions in te leveren.\nDe Lions Club zet zich al tien jaar actief in voor de regio Teylingen met diverse maatschappelijke\ninitiatieven\, waaronder de Lichtjeswandeling en de Wensboom. De Boter\, Kaas en (Paas)eieren-\nactie is één van de terugkerende activiteiten waarmee direct hulp wordt geboden aan inwoners\ndie het nodig hebben.\nDaarnaast is de club op zoek naar nieuwe leden. Iedereen die zich maatschappelijk wil inzetten\nen deel wil uitmaken van een betrokken en gezellig netwerk is van harte welkom.\nGeïnteresseerden kunnen vrijblijvend een keer meelopen met een actie of kennismaken met de\nclub. Voor meer informatie of aanmelding: secretaris@lcteylingen.nl\nLions Club Warmond Slot Teylingen maakt deel uit van Lions Clubs International\, de grootste\nserviceorganisatie ter wereld. De club bestaat uit betrokken leden die zich inzetten voor een\nbetere leefomgeving in de regio.
URL:https://www.deteyding.nl/agenda/inzameling-lions-voor-voedselbank/
END:VEVENT
BEGIN:VEVENT
DTSTART;TZID=Europe/Amsterdam:20260328T140000
DTEND;TZID=Europe/Amsterdam:20260328T140000
DTSTAMP:20260422T114726
CREATED:20260318T132220Z
LAST-MODIFIED:20260318T132220Z
UID:53738-1774706400-1774706400@www.deteyding.nl
SUMMARY:HKV op locatie: Kwekerij Meeuwissen
DESCRIPTION:HKV-café gaat op locatie op zaterdag 28 maart 2026 bij\nKwekerij H.M. Meeuwissen\, Loosterweg 10 te Voorhout\naanvang 14.00 uur. Inloop 13.30 uur.\nHein Meeuwissen uit Voorhout is een bloembollenkweker met een bijzondere historische collectie\, bekend om zijn\npassie voor oude en botanische bollensoorten. Hij beheert een kwekerij waar meer dan 650 soorten bloeien\,\nwaaronder circa 300 verschillende narcissen.\nOp zijn kwekerij zijn meer dan 500 botanische narcissen en tulpen te zien in het voorjaar. Zijn assortiment omvat\nonder meer:\n• Botanische narcissen\n• Botanische tulpen\n• Verwilderingsbollen\n• Historische en zeldzame soorten (650+ soorten)\nHein Meeuwissen beheert een van de meest bijzondere particuliere collecties in de Bollenstreek. Tijdens dit HKV-café\nkunnen onze bezoekers een groot deel van de 650 soorten bewonderen\, waaronder veel historische variëteiten die\nelders nauwelijks meer worden geteeld.\nU bent van harte uitgenodigd om\, onder het genot van een kopje koffie/thee\, te kijken en te luisteren naar het\nverhaal achter deze bijzondere bollen.\nLet op! De aanvangstijd is 14.00 uur en inloop vanaf 13.30 uur.
URL:https://www.deteyding.nl/agenda/hkv-op-locatie-kwekerij-meeuwissen/
END:VEVENT
BEGIN:VEVENT
DTSTART;TZID=Europe/Amsterdam:20260328T200000
DTEND;TZID=Europe/Amsterdam:20260328T200000
DTSTAMP:20260422T114726
CREATED:20260316T152434Z
LAST-MODIFIED:20260316T152434Z
UID:53717-1774728000-1774728000@www.deteyding.nl
SUMMARY:Gezellige Paaskien door C.V. De Saksen
DESCRIPTION:Gezellige Paaskien door C.V. De Saksen\nOp zaterdagavond 28 maart organiseert Carnavalsvereniging De Saksen een\nPaaskien in S.C.C. ’t Onderdak\, J.P. Gouverneurlaan 40 in Sassenheim.\nZoals altijd zijn er veel verschillende leuke prijzen te winnen. Behalve de kien\nzal er ook een loterij zijn. De deuren gaan om 19:30 uur open\, de aanvang is om\n20:00 uur en de entree is gratis. Heel graag tot 28 maart!
URL:https://www.deteyding.nl/agenda/gezellige-paaskien-door-c-v-de-saksen/
LOCATION:’t Onderdak\, J.P Gouverneurslaan 40b\, Sassenheim\, Nederland
END:VEVENT
BEGIN:VEVENT
DTSTART;VALUE=DATE:20260329
DTEND;VALUE=DATE:20260331
DTSTAMP:20260422T114726
CREATED:20260105T123602Z
LAST-MODIFIED:20260105T123602Z
UID:52272-1774749600-1774835999@www.deteyding.nl
SUMMARY:Hollen door de bollen
DESCRIPTION:LOOP OF WANDEL MEE MET Hollen door de bollen! \nLustrumeditie 10 is er voor iedereen.\nSchrijf je in en zet deze super populaire goede doelen loop in je agenda.\nLoop een PR\, kom trainen of wandel lekker door de bollenstreek\, wat je ook doet\, je doet het voor\nmensen met kanker.\n100% van de opbrengst van het evenement wordt afgedragen aan Stichting Roparun via Team\nBollenstreek. Daarom is het elke stap die telt bij Hollen door de Bollen\, ook die van jou!\n Gratis parkeren\n Unieke medaille\n Feestje op de route.\n\nSchrijf je nu in en bestel meteen dat unieke LUSTRUM shirt mee of kijk op de website naar onze\nunieke shirtactie!’ Laat jouw shirt sponsoren en krijg hem gratis! Deze actie loopt tot 20 maart 2026 en op=op.\nEen hele kleine moeite met grote IMPACT! Kijk voor alle informatie\, onderdelen en ook inschrijven\nop de website www.hollendoordebollen.nl\nDirect inschrijven kan NU:\nhttps://inschrijven.nl/form/2026032950090-nl\nGroepsinschrijving\nhttps://inschrijven.nl/2026/hollendoordebollen/ \nInschrijfkosten:\n€15 (op de dag €18 pin aanwezig))\n€ 6\,00 kinderen 4 t/m 11 jaar
URL:https://www.deteyding.nl/agenda/hollen-door-de-bollen/
END:VEVENT
BEGIN:VEVENT
DTSTART;TZID=Europe/Amsterdam:20260329T153000
DTEND;TZID=Europe/Amsterdam:20260329T153000
DTSTAMP:20260422T114726
CREATED:20260317T095746Z
LAST-MODIFIED:20260317T095746Z
UID:53720-1774798200-1774798200@www.deteyding.nl
SUMMARY:Marcus Passie in de RK Bartholomeuskerk
DESCRIPTION:Marcus Passie in de RK Bartholomeuskerk Voorhout\nEen eigentijdse versie van het eeuwenoude verhaal van het lijden en sterven van Christus.\nOp zondagmiddag 29 maart om 15:30 uur in Voorhout zal dit Nederlandstalige – op het\nEvangelie van Marcus gebaseerde – muziekstuk van de twintigste-eeuwse componist\, dirigent\nen kerkmusicus Hans Boelee worden uitgevoerd door het koor Rejoice Messiaskerk en\nsolisten en musici onder leiding van dirigent Aad de Winter.\nHet op zichzelf al aangrijpende lijdensverhaal raakt de toeschouwer nog meer in het hart door\nde sterke wisselwerking tussen koor en publiek en door de directheid van het Nederlands.\nBij deze uitvoering draagt de lector de passages uit het evangelie als gesproken tekst voor. Het\nkoor vertolkt de rol van het volk rondom de kruisiging. De woorden van Jezus worden\nvertolkt door de baritonsolist. De teksten van Petrus en de andere personages worden\ngezongen door tenor-\, bas- en sopraansolisten. Voor de koralen wordt het publiek uitgenodigd\nom mee te zingen.\nDe toehoorders luisteren kritisch naar een meer of minder perfecte uitvoering van bekende\nwerken door professionele musici. Ze hebben zelf een aandeel in de uitvoering en worden\nmeegenomen in de beleving van een sterke emotie. Deze Passie is geschikt voor jong en oud\nom kennis te maken met dit deel van de christelijke cultuurgeschiedenis en geeft antwoord op\nde vragen die bijvoorbeeld The Passion oproept.\nAan deze uitvoering werken vele enthousiaste leden mee van de Protestantse Gemeente\nWassenaar\, maar ook solisten met landelijke of regionale bekendheid zoals: piano: Arie\nKraaijeveld\, orgel: Warner Fokkens\, trompet: Arjan en Edith Post\, sopraan: Judith Sportel\,\nbariton: Jeroen Manders\, tenor: Jeroen Blok\, bas: Koos van den Akker.\nDe lector op deze dag is Owe Boersma en Hedda Klip. De algehele leiding is in handen van\ndirigent Aad de Winter.\nDeze uitvoering van de Marcus Passie wordt u aangeboden door RK\nBartholomeuskerk en De Kleine Kerk in Voorhout. Toegang is gratis\, na afloop is er\neen collecte.
URL:https://www.deteyding.nl/agenda/marcus-passie-in-de-rk-bartholomeuskerk/
LOCATION:Bartholomeuskerk\, Herenstraat\, Voorhout
END:VEVENT
BEGIN:VEVENT
DTSTART;TZID=Europe/Amsterdam:20260330T200000
DTEND;TZID=Europe/Amsterdam:20260330T230000
DTSTAMP:20260422T114726
CREATED:20251229T144233Z
LAST-MODIFIED:20251229T144233Z
UID:52107-1774900800-1774911600@www.deteyding.nl
SUMMARY:Afscheidsvergadering oude gemeenteraad
DESCRIPTION:Vergaderingen Teylingen – iBabs Publieksportaal
URL:https://www.deteyding.nl/agenda/afscheidsvergadering-oude-gemeenteraad/
LOCATION:Bestuurscentrum Teylingen\, Raadhuisplein 1\, Voorhout
END:VEVENT
END:VCALENDAR